BEGIN:VCALENDAR
VERSION:2.0
PRODID:-//The West Hartford Garden Club - ECPv6.15.20//NONSGML v1.0//EN
CALSCALE:GREGORIAN
METHOD:PUBLISH
X-ORIGINAL-URL:https://westhartfordgardenclub.org
X-WR-CALDESC:Events for The West Hartford Garden Club
REFRESH-INTERVAL;VALUE=DURATION:PT1H
X-Robots-Tag:noindex
X-PUBLISHED-TTL:PT1H
BEGIN:VTIMEZONE
TZID:America/New_York
BEGIN:DAYLIGHT
TZOFFSETFROM:-0500
TZOFFSETTO:-0400
TZNAME:EDT
DTSTART:20250309T070000
END:DAYLIGHT
BEGIN:STANDARD
TZOFFSETFROM:-0400
TZOFFSETTO:-0500
TZNAME:EST
DTSTART:20251102T060000
END:STANDARD
BEGIN:DAYLIGHT
TZOFFSETFROM:-0500
TZOFFSETTO:-0400
TZNAME:EDT
DTSTART:20260308T070000
END:DAYLIGHT
BEGIN:STANDARD
TZOFFSETFROM:-0400
TZOFFSETTO:-0500
TZNAME:EST
DTSTART:20261101T060000
END:STANDARD
BEGIN:DAYLIGHT
TZOFFSETFROM:-0500
TZOFFSETTO:-0400
TZNAME:EDT
DTSTART:20270314T070000
END:DAYLIGHT
BEGIN:STANDARD
TZOFFSETFROM:-0400
TZOFFSETTO:-0500
TZNAME:EST
DTSTART:20271107T060000
END:STANDARD
END:VTIMEZONE
BEGIN:VEVENT
DTSTART;TZID=America/New_York:20261005T090000
DTEND;TZID=America/New_York:20261005T110000
DTSTAMP:20260424T220336
CREATED:20260308T204454Z
LAST-MODIFIED:20260308T204454Z
UID:16849-1791190800-1791198000@westhartfordgardenclub.org
SUMMARY:Board Meeting
DESCRIPTION:Location will be available soon.
URL:https://westhartfordgardenclub.org/event/board-meeting-11/
LOCATION:CT
END:VEVENT
BEGIN:VEVENT
DTSTART;TZID=America/New_York:20261008T113000
DTEND;TZID=America/New_York:20261008T140000
DTSTAMP:20260424T220336
CREATED:20260308T205932Z
LAST-MODIFIED:20260308T205932Z
UID:16865-1791459000-1791468000@westhartfordgardenclub.org
SUMMARY:General Meeting
DESCRIPTION:More information will be coming.
URL:https://westhartfordgardenclub.org/event/general-meeting-9/
LOCATION:St. John’s Episcopal Church\, 679 Farmington Avenue\, West Hartford\, CT
END:VEVENT
BEGIN:VEVENT
DTSTART;TZID=America/New_York:20261013T083000
DTEND;TZID=America/New_York:20261013T113000
DTSTAMP:20260424T220336
CREATED:20260206T212434Z
LAST-MODIFIED:20260206T212434Z
UID:16531-1791880200-1791891000@westhartfordgardenclub.org
SUMMARY:Gardening
DESCRIPTION:Please plan to give us at least one hour of your time during the morning. Please bring your favorite tools for weeding and pruning. A co-chair will arrive at the garden by 8:30 a.m. \nPARKING: Parking will be in the paved lot next to the Amos Bull House on South Prospect Street. We encourage you to carpool as space is limited. \nWe plan to work if the rain is light. If it is pouring\, you will get a cancellation call by 8:00 a.m. \n• If you are unable to work on your signup date\, please let me know so that we can reschedule you and help you find a replacement for your shift. \n• Kindly confirm that you have received this message\, by replying to ljaldrich@hotmail.com or text 860-227-2730. \nThank you for helping to make the Butler McCook garden such a treasure for the greater Hartford region. \nBest regards\, \nLinda Aldrich\, Co-Chair\, 860 227-2730\nSue Bailey\, Co-Chair\, 860 573-4908\nSteve Kovack\, Co-Chair\, 860 521-6563: \nSign-up Page
URL:https://westhartfordgardenclub.org/event/gardening-16/
LOCATION:Butler-McCook Garden\, 396 Main Street\, Hartford\, CT\, United States
ORGANIZER;CN="Linda Aldrich":MAILTO:ljaldrich@hotmail.com
END:VEVENT
BEGIN:VEVENT
DTSTART;TZID=America/New_York:20261014T083000
DTEND;TZID=America/New_York:20261014T103000
DTSTAMP:20260424T220336
CREATED:20260322T225204Z
LAST-MODIFIED:20260322T225204Z
UID:17098-1791966600-1791973800@westhartfordgardenclub.org
SUMMARY:Gardening
DESCRIPTION:1.  Shifts are scheduled from 8:30 am to 10:30 am.\n 2.  Please bring your favorite tools for weeding and pruning.\n3.  Anyone who would like to work alone and enjoy the garden as it begins to grow is certainly welcome to do so!\n4.  If it is raining on your scheduled day\, the rain date will be the next day.
URL:https://westhartfordgardenclub.org/event/gardening-31/
LOCATION:Noah Webster House\, 227 South Main Street\, West Hartford\, CT\, United States
ORGANIZER;CN="Maureen Gould":MAILTO:mcgould89@comcast.net
END:VEVENT
BEGIN:VEVENT
DTSTART;TZID=America/New_York:20261020T083000
DTEND;TZID=America/New_York:20261020T103000
DTSTAMP:20260424T220336
CREATED:20260206T212558Z
LAST-MODIFIED:20260206T212558Z
UID:16533-1792485000-1792492200@westhartfordgardenclub.org
SUMMARY:Gardening
DESCRIPTION:Please plan to give us at least one hour of your time during the morning. Please bring your favorite tools for weeding and pruning. A co-chair will arrive at the garden by 8:30 a.m. \nPARKING: Parking will be in the paved lot next to the Amos Bull House on South Prospect Street. We encourage you to carpool as space is limited. \nWe plan to work if the rain is light. If it is pouring\, you will get a cancellation call by 8:00 a.m. \n• If you are unable to work on your signup date\, please let me know so that we can reschedule you and help you find a replacement for your shift. \n• Kindly confirm that you have received this message\, by replying to ljaldrich@hotmail.com or text 860-227-2730. \nThank you for helping to make the Butler McCook garden such a treasure for the greater Hartford region. \nBest regards\, \nLinda Aldrich\, Co-Chair\, 860 227-2730\nSue Bailey\, Co-Chair\, 860 573-4908\nSteve Kovack\, Co-Chair\, 860 521-6563: \nSign-up Page
URL:https://westhartfordgardenclub.org/event/gardening-17/
LOCATION:Butler-McCook Garden\, 396 Main Street\, Hartford\, CT\, United States
ORGANIZER;CN="Linda Aldrich":MAILTO:ljaldrich@hotmail.com
END:VEVENT
END:VCALENDAR