BEGIN:VCALENDAR
VERSION:2.0
PRODID:-//The West Hartford Garden Club - ECPv6.15.20//NONSGML v1.0//EN
CALSCALE:GREGORIAN
METHOD:PUBLISH
X-ORIGINAL-URL:https://westhartfordgardenclub.org
X-WR-CALDESC:Events for The West Hartford Garden Club
REFRESH-INTERVAL;VALUE=DURATION:PT1H
X-Robots-Tag:noindex
X-PUBLISHED-TTL:PT1H
BEGIN:VTIMEZONE
TZID:America/New_York
BEGIN:DAYLIGHT
TZOFFSETFROM:-0500
TZOFFSETTO:-0400
TZNAME:EDT
DTSTART:20250309T070000
END:DAYLIGHT
BEGIN:STANDARD
TZOFFSETFROM:-0400
TZOFFSETTO:-0500
TZNAME:EST
DTSTART:20251102T060000
END:STANDARD
BEGIN:DAYLIGHT
TZOFFSETFROM:-0500
TZOFFSETTO:-0400
TZNAME:EDT
DTSTART:20260308T070000
END:DAYLIGHT
BEGIN:STANDARD
TZOFFSETFROM:-0400
TZOFFSETTO:-0500
TZNAME:EST
DTSTART:20261101T060000
END:STANDARD
BEGIN:DAYLIGHT
TZOFFSETFROM:-0500
TZOFFSETTO:-0400
TZNAME:EDT
DTSTART:20270314T070000
END:DAYLIGHT
BEGIN:STANDARD
TZOFFSETFROM:-0400
TZOFFSETTO:-0500
TZNAME:EST
DTSTART:20271107T060000
END:STANDARD
END:VTIMEZONE
BEGIN:VEVENT
DTSTART;TZID=America/New_York:20260601T090000
DTEND;TZID=America/New_York:20260601T110000
DTSTAMP:20260424T154754
CREATED:20250702T220142Z
LAST-MODIFIED:20250702T220142Z
UID:15264-1780304400-1780311600@westhartfordgardenclub.org
SUMMARY:Board Meeting
DESCRIPTION:
URL:https://westhartfordgardenclub.org/event/board-meeting-8/
LOCATION:Cecily Vasington\, 26 High Farms Road\, West Hartford\, CT\, United States
ORGANIZER;CN="Cecily Vasington":MAILTO:cecily.vasington@gmail.com
END:VEVENT
BEGIN:VEVENT
DTSTART;TZID=America/New_York:20260602T083000
DTEND;TZID=America/New_York:20260602T103000
DTSTAMP:20260424T154754
CREATED:20260206T211210Z
LAST-MODIFIED:20260206T211210Z
UID:16511-1780389000-1780396200@westhartfordgardenclub.org
SUMMARY:Gardening
DESCRIPTION:Please plan to give us at least one hour of your time during the morning. Please bring your favorite tools for weeding and pruning. A co-chair will arrive at the garden by 8:30 a.m. \nPARKING: Parking will be in the paved lot next to the Amos Bull House on South Prospect Street. We encourage you to carpool as space is limited. \nWe plan to work if the rain is light. If it is pouring\, you will get a cancellation call by 8:00 a.m. \n• If you are unable to work on your signup date\, please let me know so that we can reschedule you and help you find a replacement for your shift. \n• Kindly confirm that you have received this message\, by replying to ljaldrich@hotmail.com or text 860-227-2730. \nThank you for helping to make the Butler McCook garden such a treasure for the greater Hartford region. \nBest regards\, \nLinda Aldrich\, Co-Chair\, 860 227-2730\nSue Bailey\, Co-Chair\, 860 573-4908\nSteve Kovack\, Co-Chair\, 860 521-6563: \nSign-up Page
URL:https://westhartfordgardenclub.org/event/gardening-6/
LOCATION:Butler-McCook Garden\, 396 Main Street\, Hartford\, CT\, United States
ORGANIZER;CN="Linda Aldrich":MAILTO:ljaldrich@hotmail.com
END:VEVENT
BEGIN:VEVENT
DTSTART;TZID=America/New_York:20260604T120000
DTEND;TZID=America/New_York:20260604T140000
DTSTAMP:20260424T154754
CREATED:20250706T200657Z
LAST-MODIFIED:20250706T201404Z
UID:15311-1780574400-1780581600@westhartfordgardenclub.org
SUMMARY:General Meeting
DESCRIPTION:Celebration of the 95th Anniversary of the West Hartford Garden Club \nMember Luncheon and Annual Meeting at the Town and County Club \nClosed meeting\, reservations required. \n 
URL:https://westhartfordgardenclub.org/event/general-meeting-7/
LOCATION:Town and Country Club\, 22 Woodland Street\, Hartford\, CT\, United States
END:VEVENT
BEGIN:VEVENT
DTSTART;TZID=America/New_York:20260610T083000
DTEND;TZID=America/New_York:20260610T103000
DTSTAMP:20260424T154754
CREATED:20260322T224057Z
LAST-MODIFIED:20260322T224057Z
UID:17080-1781080200-1781087400@westhartfordgardenclub.org
SUMMARY:Gardening
DESCRIPTION:1.  Shifts are scheduled from 8:30 am to 10:30 am.\n 2.  Please bring your favorite tools for weeding and pruning.\n3.  Anyone who would like to work alone and enjoy the garden as it begins to grow is certainly welcome to do so!\n4.  If it is raining on your scheduled day\, the rain date will be the next day.
URL:https://westhartfordgardenclub.org/event/gardening-22/
LOCATION:Noah Webster House\, 227 South Main Street\, West Hartford\, CT\, United States
ORGANIZER;CN="Maureen Gould":MAILTO:mcgould89@comcast.net
END:VEVENT
BEGIN:VEVENT
DTSTART;TZID=America/New_York:20260610T093000
DTEND;TZID=America/New_York:20260610T093000
DTSTAMP:20260424T154754
CREATED:20260205T213358Z
LAST-MODIFIED:20260205T213524Z
UID:16489-1781083800-1781083800@westhartfordgardenclub.org
SUMMARY:Field Trip
DESCRIPTION:Field Trip to Harkness Memorial State Park at 275 Great Neck Road\,\nWaterford\, CT.  More information and time will be available closer to the date.
URL:https://westhartfordgardenclub.org/event/field-trip-3/
LOCATION:Harkness Memorial State Park\, 275 Great Neck Road\, Waterford\, CT\, United States
ORGANIZER;CN="Billie Reese":MAILTO:billie.reese1@gmail.com
END:VEVENT
BEGIN:VEVENT
DTSTART;TZID=America/New_York:20260616T083000
DTEND;TZID=America/New_York:20260616T103000
DTSTAMP:20260424T154754
CREATED:20260206T211326Z
LAST-MODIFIED:20260206T211326Z
UID:16513-1781598600-1781605800@westhartfordgardenclub.org
SUMMARY:Gardening
DESCRIPTION:Please plan to give us at least one hour of your time during the morning. Please bring your favorite tools for weeding and pruning. A co-chair will arrive at the garden by 8:30 a.m. \nPARKING: Parking will be in the paved lot next to the Amos Bull House on South Prospect Street. We encourage you to carpool as space is limited. \nWe plan to work if the rain is light. If it is pouring\, you will get a cancellation call by 8:00 a.m. \n• If you are unable to work on your signup date\, please let me know so that we can reschedule you and help you find a replacement for your shift. \n• Kindly confirm that you have received this message\, by replying to ljaldrich@hotmail.com or text 860-227-2730. \nThank you for helping to make the Butler McCook garden such a treasure for the greater Hartford region. \nBest regards\, \nLinda Aldrich\, Co-Chair\, 860 227-2730\nSue Bailey\, Co-Chair\, 860 573-4908\nSteve Kovack\, Co-Chair\, 860 521-6563: \nSign-up Page
URL:https://westhartfordgardenclub.org/event/gardening-7/
LOCATION:Butler-McCook Garden\, 396 Main Street\, Hartford\, CT\, United States
ORGANIZER;CN="Linda Aldrich":MAILTO:ljaldrich@hotmail.com
END:VEVENT
BEGIN:VEVENT
DTSTART;TZID=America/New_York:20260624T083000
DTEND;TZID=America/New_York:20260624T103000
DTSTAMP:20260424T154754
CREATED:20260322T224221Z
LAST-MODIFIED:20260322T224221Z
UID:17082-1782289800-1782297000@westhartfordgardenclub.org
SUMMARY:Gardening
DESCRIPTION:1.  Shifts are scheduled from 8:30 am to 10:30 am.\n 2.  Please bring your favorite tools for weeding and pruning.\n3.  Anyone who would like to work alone and enjoy the garden as it begins to grow is certainly welcome to do so!\n4.  If it is raining on your scheduled day\, the rain date will be the next day.
URL:https://westhartfordgardenclub.org/event/gardening-23/
LOCATION:Noah Webster House\, 227 South Main Street\, West Hartford\, CT\, United States
ORGANIZER;CN="Maureen Gould":MAILTO:mcgould89@comcast.net
END:VEVENT
BEGIN:VEVENT
DTSTART;TZID=America/New_York:20260630T083000
DTEND;TZID=America/New_York:20260630T103000
DTSTAMP:20260424T154754
CREATED:20260206T211445Z
LAST-MODIFIED:20260206T213041Z
UID:16515-1782808200-1782815400@westhartfordgardenclub.org
SUMMARY:Gardening
DESCRIPTION:Please plan to give us at least one hour of your time during the morning. Please bring your favorite tools for weeding and pruning. A co-chair will arrive at the garden by 8:30 a.m. \nPARKING: Parking will be in the paved lot next to the Amos Bull House on South Prospect Street. We encourage you to carpool as space is limited. \nWe plan to work if the rain is light. If it is pouring\, you will get a cancellation call by 8:00 a.m. \n• If you are unable to work on your signup date\, please let me know so that we can reschedule you and help you find a replacement for your shift. \n• Kindly confirm that you have received this message\, by replying to ljaldrich@hotmail.com or text 860-227-2730. \nThank you for helping to make the Butler McCook garden such a treasure for the greater Hartford region. \nBest regards\, \nLinda Aldrich\, Co-Chair\, 860 227-2730\nSue Bailey\, Co-Chair\, 860 573-4908\nSteve Kovack\, Co-Chair\, 860 521-6563: \nSign-up Page
URL:https://westhartfordgardenclub.org/event/gardening-8/
LOCATION:Butler-McCook Garden\, 396 Main Street\, Hartford\, CT\, United States
ORGANIZER;CN="Linda Aldrich":MAILTO:ljaldrich@hotmail.com
END:VEVENT
END:VCALENDAR