BEGIN:VCALENDAR
VERSION:2.0
PRODID:-//The West Hartford Garden Club - ECPv6.15.20//NONSGML v1.0//EN
CALSCALE:GREGORIAN
METHOD:PUBLISH
X-ORIGINAL-URL:https://westhartfordgardenclub.org
X-WR-CALDESC:Events for The West Hartford Garden Club
REFRESH-INTERVAL;VALUE=DURATION:PT1H
X-Robots-Tag:noindex
X-PUBLISHED-TTL:PT1H
BEGIN:VTIMEZONE
TZID:America/New_York
BEGIN:DAYLIGHT
TZOFFSETFROM:-0500
TZOFFSETTO:-0400
TZNAME:EDT
DTSTART:20240310T070000
END:DAYLIGHT
BEGIN:STANDARD
TZOFFSETFROM:-0400
TZOFFSETTO:-0500
TZNAME:EST
DTSTART:20241103T060000
END:STANDARD
BEGIN:DAYLIGHT
TZOFFSETFROM:-0500
TZOFFSETTO:-0400
TZNAME:EDT
DTSTART:20250309T070000
END:DAYLIGHT
BEGIN:STANDARD
TZOFFSETFROM:-0400
TZOFFSETTO:-0500
TZNAME:EST
DTSTART:20251102T060000
END:STANDARD
BEGIN:DAYLIGHT
TZOFFSETFROM:-0500
TZOFFSETTO:-0400
TZNAME:EDT
DTSTART:20260308T070000
END:DAYLIGHT
BEGIN:STANDARD
TZOFFSETFROM:-0400
TZOFFSETTO:-0500
TZNAME:EST
DTSTART:20261101T060000
END:STANDARD
END:VTIMEZONE
BEGIN:VEVENT
DTSTART;TZID=America/New_York:20251103T090000
DTEND;TZID=America/New_York:20251103T110000
DTSTAMP:20260424T201541
CREATED:20250702T213934Z
LAST-MODIFIED:20250702T214005Z
UID:15244-1762160400-1762167600@westhartfordgardenclub.org
SUMMARY:Board Meeting
DESCRIPTION:
URL:https://westhartfordgardenclub.org/event/board-meeting-3/
LOCATION:Billie Reese\, 82 Foxridge Road\, West Hartford\, CT\, United States
ORGANIZER;CN="Billie Reese":MAILTO:billie.reese1@gmail.com
END:VEVENT
BEGIN:VEVENT
DTSTART;TZID=America/New_York:20251104T123000
DTEND;TZID=America/New_York:20251104T150000
DTSTAMP:20260424T201541
CREATED:20251030T194139Z
LAST-MODIFIED:20251030T194715Z
UID:16067-1762259400-1762268400@westhartfordgardenclub.org
SUMMARY:Civic Projects - Seed Sorting Sessions
DESCRIPTION:Seed sorting for the 2026 Seed Library Opening is a fun weekly event from November through April. Sessions are held most Tuesdays from 12:30 pm – 3 pm in the StoryTime Room at the Noah Webster Memorial Library Children’s Department\, beginning on November 4\, 2025. Parking is available at the Isham Lot at Blue Back Square – please do not pay at the kiosk in the garage or on the phone app. Rather\, just provide your license plate number to the Children’s Librarian and let the librarian know that you are with the seed library group for 3 hours. \nLooking forward to meeting again for a new season! Please call us with any questions or concerns.
URL:https://westhartfordgardenclub.org/event/civic-projects-seed-sorting-sessions/
LOCATION:Noah Webster Library\, 20 South Main Street\, West Hartford\, CT\, United States
ORGANIZER;CN="Janice Schnabel":MAILTO:janice.schnabel@gmail.com
END:VEVENT
BEGIN:VEVENT
DTSTART;TZID=America/New_York:20251106T120000
DTEND;TZID=America/New_York:20251106T140000
DTSTAMP:20260424T201541
CREATED:20250706T194821Z
LAST-MODIFIED:20250801T201242Z
UID:15296-1762430400-1762437600@westhartfordgardenclub.org
SUMMARY:General Meeting
DESCRIPTION:Designing for Color in the Garden\, presented by Sarah Bailey\, a UConn Certified Advanced Master Gardener and a Connecticut Certified Horticulturalist\, recently retired as state coordinator of the UConn Extension Master Gardener program.  She will address color theory and examine how the thoughtful and deliberate use of color can help achieve specific desired garden experiences.
URL:https://westhartfordgardenclub.org/event/general-meeting-3/
LOCATION:CT
END:VEVENT
BEGIN:VEVENT
DTSTART;TZID=America/New_York:20251111T123000
DTEND;TZID=America/New_York:20251111T150000
DTSTAMP:20260424T201541
CREATED:20251030T195146Z
LAST-MODIFIED:20251030T195146Z
UID:16070-1762864200-1762873200@westhartfordgardenclub.org
SUMMARY:Civic Projects - Seed Sorting Sessions
DESCRIPTION:Seed sorting for the 2026 Seed Library Opening is a fun weekly event from November through April. Sessions are held most Tuesdays from 12:30 pm – 3 pm in the StoryTime Room at the Noah Webster Memorial Library Children’s Department\, beginning on November 4\, 2025. Parking is available at the Isham Lot at Blue Back Square – please do not pay at the kiosk in the garage or on the phone app. Rather\, just provide your license plate number to the Children’s Librarian and let the librarian know that you are with the seed library group for 3 hours. \nLooking forward to meeting again for a new season! Please call us with any questions or concerns.
URL:https://westhartfordgardenclub.org/event/civic-projects-seed-sorting-sessions-2/
LOCATION:Noah Webster Library\, 20 South Main Street\, West Hartford\, CT\, United States
ORGANIZER;CN="Janice Schnabel":MAILTO:janice.schnabel@gmail.com
END:VEVENT
BEGIN:VEVENT
DTSTART;TZID=America/New_York:20251113T140000
DTEND;TZID=America/New_York:20251113T153000
DTSTAMP:20260424T201541
CREATED:20250817T213825Z
LAST-MODIFIED:20251101T143939Z
UID:15446-1763042400-1763047800@westhartfordgardenclub.org
SUMMARY:Floral Design Workshop - Demystifying What You Need to Know to Enter and Excel in 2026 Hartford Flower and Garden Show
DESCRIPTION:Information Session to encourage members to participate in the Flower Show Divisions (Horticulture\, Floral Design\, Education\, or Botanical Arts) of The Hartford Garden and Flower Show (February 19-21\, 2026). The orientation will be geared to participation in the Flower Design  and Horticulture Divisions.
URL:https://westhartfordgardenclub.org/event/floral-design-workshop-information-session/
LOCATION:Noah Webster House\, 227 South Main Street\, West Hartford\, CT\, United States
ORGANIZER;CN="Eva Jakuba":MAILTO:eva.jakuba@gmail.com
END:VEVENT
BEGIN:VEVENT
DTSTART;TZID=America/New_York:20251118T120000
DTEND;TZID=America/New_York:20251118T150000
DTSTAMP:20260424T201541
CREATED:20251030T195325Z
LAST-MODIFIED:20251030T195325Z
UID:16072-1763467200-1763478000@westhartfordgardenclub.org
SUMMARY:Civic Projects - Seed Sorting Sessions
DESCRIPTION:Seed sorting for the 2026 Seed Library Opening is a fun weekly event from November through April. Sessions are held most Tuesdays from 12:30 pm – 3 pm in the StoryTime Room at the Noah Webster Memorial Library Children’s Department\, beginning on November 4\, 2025. Parking is available at the Isham Lot at Blue Back Square – please do not pay at the kiosk in the garage or on the phone app. Rather\, just provide your license plate number to the Children’s Librarian and let the librarian know that you are with the seed library group for 3 hours. \nLooking forward to meeting again for a new season! Please call us with any questions or concerns.
URL:https://westhartfordgardenclub.org/event/civic-projects-seed-sorting-sessions-3/
LOCATION:Noah Webster Library\, 20 South Main Street\, West Hartford\, CT\, United States
ORGANIZER;CN="Janice Schnabel":MAILTO:janice.schnabel@gmail.com
END:VEVENT
BEGIN:VEVENT
DTSTART;TZID=America/New_York:20251125T123000
DTEND;TZID=America/New_York:20251125T150000
DTSTAMP:20260424T201541
CREATED:20251030T200628Z
LAST-MODIFIED:20251030T200628Z
UID:16074-1764073800-1764082800@westhartfordgardenclub.org
SUMMARY:Civic Projects - Seed Sorting Sessions
DESCRIPTION:Seed sorting for the 2026 Seed Library Opening is a fun weekly event from November through April. Sessions are held most Tuesdays from 12:30 pm – 3 pm in the StoryTime Room at the Noah Webster Memorial Library Children’s Department\, beginning on November 4\, 2025. Parking is available at the Isham Lot at Blue Back Square – please do not pay at the kiosk in the garage or on the phone app. Rather\, just provide your license plate number to the Children’s Librarian and let the librarian know that you are with the seed library group for 3 hours. \nLooking forward to meeting again for a new season! Please call us with any questions or concerns.
URL:https://westhartfordgardenclub.org/event/civic-projects-seed-sorting-sessions-4/
LOCATION:Noah Webster Library\, 20 South Main Street\, West Hartford\, CT\, United States
ORGANIZER;CN="Janice Schnabel":MAILTO:janice.schnabel@gmail.com
END:VEVENT
END:VCALENDAR