BEGIN:VCALENDAR
VERSION:2.0
PRODID:-//The West Hartford Garden Club - ECPv6.15.20//NONSGML v1.0//EN
CALSCALE:GREGORIAN
METHOD:PUBLISH
X-WR-CALNAME:The West Hartford Garden Club
X-ORIGINAL-URL:https://westhartfordgardenclub.org
X-WR-CALDESC:Events for The West Hartford Garden Club
REFRESH-INTERVAL;VALUE=DURATION:PT1H
X-Robots-Tag:noindex
X-PUBLISHED-TTL:PT1H
BEGIN:VTIMEZONE
TZID:America/New_York
BEGIN:DAYLIGHT
TZOFFSETFROM:-0500
TZOFFSETTO:-0400
TZNAME:EDT
DTSTART:20240310T070000
END:DAYLIGHT
BEGIN:STANDARD
TZOFFSETFROM:-0400
TZOFFSETTO:-0500
TZNAME:EST
DTSTART:20241103T060000
END:STANDARD
BEGIN:DAYLIGHT
TZOFFSETFROM:-0500
TZOFFSETTO:-0400
TZNAME:EDT
DTSTART:20250309T070000
END:DAYLIGHT
BEGIN:STANDARD
TZOFFSETFROM:-0400
TZOFFSETTO:-0500
TZNAME:EST
DTSTART:20251102T060000
END:STANDARD
BEGIN:DAYLIGHT
TZOFFSETFROM:-0500
TZOFFSETTO:-0400
TZNAME:EDT
DTSTART:20260308T070000
END:DAYLIGHT
BEGIN:STANDARD
TZOFFSETFROM:-0400
TZOFFSETTO:-0500
TZNAME:EST
DTSTART:20261101T060000
END:STANDARD
END:VTIMEZONE
BEGIN:VEVENT
DTSTART;TZID=America/New_York:20251001T083000
DTEND;TZID=America/New_York:20251001T103000
DTSTAMP:20260424T220328
CREATED:20250702T211952Z
LAST-MODIFIED:20250702T211952Z
UID:15232-1759307400-1759314600@westhartfordgardenclub.org
SUMMARY:Gardening @ Noah Webster House
DESCRIPTION:1.  Shifts are scheduled from 8:30 am to 10:30 am.\n 2.  Please bring your favorite tools for weeding and pruning.\n3.  Anyone who would like to work alone and enjoy the garden as it begins to grow is certainly welcome to do so!\n4.  If it is raining on your scheduled day\, the rain date will be the next day.
URL:https://westhartfordgardenclub.org/event/gardening-noah-webster-house-7/
LOCATION:Noah Webster House\, 227 South Main Street\, West Hartford\, CT\, United States
ORGANIZER;CN="Linda Aldrich":MAILTO:ljaldrich@hotmail.com
END:VEVENT
BEGIN:VEVENT
DTSTART;TZID=America/New_York:20251004T130000
DTEND;TZID=America/New_York:20251004T130000
DTSTAMP:20260424T220328
CREATED:20250706T173549Z
LAST-MODIFIED:20250920T144148Z
UID:15272-1759582800-1759582800@westhartfordgardenclub.org
SUMMARY:Civic Projects - Seed Saving Class & Seed Swap
DESCRIPTION:You’re invited to the West Hartford Garden Club’s Seed Saving & Sharing Workshop on Saturday\,October 4\, at 1:00 PM at the Noah Webster Memorial Library! This hands-on\, fun workshop will show you how to: Save seeds from your favorite plants for next year’s garden  Share seeds with fellow gardeners  Contribute to our growing Seed Library  The program will be led by Master Gardeners Beth Ann Loveland Sennett\, Susan Grew\, and Debbie Pike in partnership with the West Hartford Public Library. Please feel free to bring seeds to share—and if you have extras\, we’d love for you to leave some behind to help stock the Seed Library for the community! We hope to see you there!
URL:https://westhartfordgardenclub.org/event/civic-projects-seed-saving-class-seed-swap/
LOCATION:Noah Webster Library\, 20 South Main Street\, West Hartford\, CT\, United States
ORGANIZER;CN="Beth Ann Loveland Sennett":MAILTO:blovelandsennett56@gmail.com
END:VEVENT
BEGIN:VEVENT
DTSTART;TZID=America/New_York:20251006T090000
DTEND;TZID=America/New_York:20251006T110000
DTSTAMP:20260424T220328
CREATED:20250702T213521Z
LAST-MODIFIED:20251004T172339Z
UID:15240-1759741200-1759748400@westhartfordgardenclub.org
SUMMARY:Board Meeting
DESCRIPTION:Will be in the Community Room at the Woodland Condos.\, which is at 31 Woodland Street\, Hartford.  People can park on the street but there  is a small guest parking lot in the front of the building. There  is a large parking lot behind the building which is accessed by a driveway on the north side of the building. Whoever parks behind the building would need to walk to the front of the building to register with the security guard at the front desk. The Community Room is on the M level below the first floor. There are elevators. \nI suggest that people carpool and let their passengers off at the front door before parking.
URL:https://westhartfordgardenclub.org/event/board-meeting-2/
LOCATION:Sue Bailey\, 31 Woodland Street\, Community Room\, Hartford\, CT\, United States
ORGANIZER;CN="Sue Bailey":MAILTO:eselbee55@yahoo.com
END:VEVENT
BEGIN:VEVENT
DTSTART;TZID=America/New_York:20251007T080000
DTEND;TZID=America/New_York:20251007T120000
DTSTAMP:20260424T220328
CREATED:20251002T175126Z
LAST-MODIFIED:20251002T184632Z
UID:15913-1759824000-1759838400@westhartfordgardenclub.org
SUMMARY:Civic Projects - Conny the Whale Tail Landscaping Project
DESCRIPTION:Great news—the long-awaited Conny the Whale Tail landscaping project is scheduled! \nWhen & where – Corrected Calendar Dates   \nTuesday\, October 7\, 2025\, 8:00 AM–12:00 PM \nWednesday\, October 8\, 2025\, 8:00 AM–12:00 PM (finish work) \nLocation: Trout Brook Drive (meet at the Whale Tail). Public Works delivered topsoil last week\, and the final plants arrived yesterday. \nWhat we’ll do: \nInstall native plantings around the Whale Tail \nWater in\, mulch\, and tidy the site \nHelpful to bring (if you have them)\nGloves\, trowels\, insect repellent\, hats. Dress for the weather; bring jugs of water. \nRSVP\nPlease reply if you can join us—and let me know which day(s). \nMany thanks in advance for your help!
URL:https://westhartfordgardenclub.org/event/civic-projects-conny-the-whale-tail-landscaping-project/
LOCATION:CT
ORGANIZER;CN="Beth Ann Loveland Sennett":MAILTO:blovelandsennett56@gmail.com
END:VEVENT
BEGIN:VEVENT
DTSTART;TZID=America/New_York:20251007T083000
DTEND;TZID=America/New_York:20251007T103000
DTSTAMP:20260424T220328
CREATED:20250702T204645Z
LAST-MODIFIED:20250702T205520Z
UID:15213-1759825800-1759833000@westhartfordgardenclub.org
SUMMARY:Gardening @ Butler-McCook
DESCRIPTION:Please plan to give us at least one hour of your time during the morning. Please bring your favorite tools for weeding and pruning. A co-chair will arrive at the garden by 8:30 a.m. \nPARKING: Parking will be in the paved lot next to the Amos Bull House on South Prospect Street. We encourage you to carpool as space is limited. \nWe plan to work if the rain is light. If it is pouring\, you will get a cancellation call by 8:00 a.m.
URL:https://westhartfordgardenclub.org/event/gardening-butler-mccook-5/
LOCATION:Butler-McCook Garden\, 396 Main Street\, Hartford\, CT\, United States
ORGANIZER;CN="Linda Aldrich":MAILTO:ljaldrich@hotmail.com
END:VEVENT
BEGIN:VEVENT
DTSTART;TZID=America/New_York:20251008T080000
DTEND;TZID=America/New_York:20251008T120000
DTSTAMP:20260424T220328
CREATED:20251002T175432Z
LAST-MODIFIED:20251002T183900Z
UID:15916-1759910400-1759924800@westhartfordgardenclub.org
SUMMARY:Civic Projects - Conny the Whale Tail Landscaping Project
DESCRIPTION:Great news—the long-awaited Conny the Whale Tail landscaping project is scheduled! \nWhen & where – Corrected Calendar Dates   \nTuesday\, October 7\, 2025\, 8:00 AM–12:00 PM \nWednesday\, October 8\, 2025\, 8:00 AM–12:00 PM (finish work) \nLocation: Trout Brook Drive (meet at the Whale Tail). Public Works delivered topsoil last week\, and the final plants arrived yesterday. \nWhat we’ll do: \nInstall native plantings around the Whale Tail \nWater in\, mulch\, and tidy the site \nHelpful to bring (if you have them)\nGloves\, trowels\, insect repellent\, hats. Dress for the weather; bring jugs of water. \nRSVP\nPlease reply if you can join us—and let me know which day(s). \nMany thanks in advance for your help!
URL:https://westhartfordgardenclub.org/event/civic-projects-conny-the-whale-tail-landscaping-project-2/
LOCATION:CT
ORGANIZER;CN="Beth Ann Loveland Sennett":MAILTO:blovelandsennett56@gmail.com
END:VEVENT
BEGIN:VEVENT
DTSTART;TZID=America/New_York:20251009T120000
DTEND;TZID=America/New_York:20251009T140000
DTSTAMP:20260424T220328
CREATED:20250706T194604Z
LAST-MODIFIED:20250801T201143Z
UID:15294-1760011200-1760018400@westhartfordgardenclub.org
SUMMARY:General Meeting
DESCRIPTION:History\, Designs\, and Human Stories\, presented by Caryn Davis\, an award-winning photographer. Using beautiful images and stories she has photographed and collected\, Caryn will provide an overview of historic gardens – how they evolved from utilitarian to aesthetic and became public landmarks – as well as delve into the stories behind some of the most spectacular private gardens in Connecticut. She will bring her books to sell: A Connecticut Christmas: Celebrating the Holiday in Classic New England Style\, Connecticut Waters: Celebrating Our Coastline & Water-ways\, and of course\, Connecticut Gardens: A Celebration of the State’s Historic\, Public and Private Gardens. \nAnnual White Elephant Sale/ Reduce\, Reuse\, Recycle\nPlease bring one or two forgotten treasures from your home\n(attic)\, to be sold for $5-$10. Our goal is to raise $225.
URL:https://westhartfordgardenclub.org/event/general-meeting-2/
LOCATION:Saint John’s Episcopal Church\, 679 Farmington Avenue\, West Hartford\, CT\, United States
END:VEVENT
BEGIN:VEVENT
DTSTART;VALUE=DATE:20251014
DTEND;VALUE=DATE:20251015
DTSTAMP:20260424T220328
CREATED:20250728T210412Z
LAST-MODIFIED:20250728T210606Z
UID:15361-1760400000-1760486399@westhartfordgardenclub.org
SUMMARY:New England Garden Clubs\, Inc. 9th Annual Meeting
DESCRIPTION:We are thrilled to invite you and all members from Connecticut\, Massachusetts\, Rhode Island\, Maine\, New Hampshire\, and Vermont to the New England Garden Clubs\, Inc. 9th Annual Meeting on October 14 15\, 2025\, at the Sheraton Hartford South Hotel in Rocky Hill\, CT.  Hosted by The Federated Garden Clubs of Connecticut\, Inc.\, this event brings together our vibrant community to celebrate our shared passion for gardening with these inspiring themes: \n\nNational Garden Clubs\, Inc.: “PLANT AMERICA – For the Next 100 Years”\nNew England Garden Clubs\, Inc.: “We Grow Gardens & Gardeners”\nThe Federated Garden Clubs of CT\, Inc.: “BEE RESILIENT – Garden for Nature”\n\nEvent Highlights: \n\nTuesday\, October 14: Unique vendor shopping\, State Presidents’ themed NEGC Photography Show\, a reception honoring Polly Brooks\, NEGC Director\, and her guests Donna Donnelly\, NGC President\, and Susan Miner\, NGC 3rd Vice President\, followed by a delicious dinner banquet and an intriguing conservation program by Susan Quincy\, CT Dept. of Energy & Environmental Protection.\nWednesday\, October 15: Roundtable focus groups\, a captivating presentation by renowned floral artist and educator Michael Derouin\, engaging and interactive “Garden Jeopardy” with horticulturist Renée Marsh\, the NEGC Achievement Awards Ceremony\, and exciting raffle drawings.\n\nANNUAL MEETING EVENT REGISTRATION\, Oct. 14-15\, 2025\nPlease complete and submit via the attached registration link by September 30\, 2025.\n\nRegistration Fee: $65 (required)\nDinner Banquet on Oct. 14th: $60\nBuffet Lunch on Oct. 15th: $45\nLate Fee: $10 applies after September 30\, 2025\n\nZOOM BUSINESS MEETING REGISTRATION\, Oct. 9\, 2025 \nThere will be an NEGC Annual Meeting “Business Meeting” by Zoom on Thursday\, October 9th\, 10:00 am.  Please register via the attached registration link by September 30\, 2025.\n\nThere is no Registration Fee\nA Zoom link will be sent to all registered attendees\n\nHOTEL RESERVATIONS:\nSecure your stay at the Sheraton Hartford South Hotel\, 100 Capital Boulevard\, Rocky Hill\, CT 06067\, for a special group rate of $149/night (plus taxes & fees) by September 19\, 2025. Call 860-257-6000\, and mention the Booking Code FGCFGCH\, or use our Group Rate Online Link \nWe encourage you to share this invitation through your social media\, newsletters\, websites\, letters\, or other marketing channels to spread the word. We have attached a flyer for your convenience. \nUse this link to register for the event: \nhttps://www.zeffy.com/ticketing/new-england-garden-clubs-inc-annual-meeting \nIf you have any further questions about registration\, please contact our registrar\, Norma Jean Macauto normajean.macauto@ctgardenclubs.org \nWe look forward to seeing you in Rocky Hill! \n 
URL:https://westhartfordgardenclub.org/event/new-england-garden-clubs-inc-9th-annual-meeting/
LOCATION:Sheraton Hartford South Hotel\, Rocky Hill\, CT\, United States
END:VEVENT
BEGIN:VEVENT
DTSTART;TZID=America/New_York:20251015T083000
DTEND;TZID=America/New_York:20251015T103000
DTSTAMP:20260424T220328
CREATED:20250702T212132Z
LAST-MODIFIED:20250702T212132Z
UID:15234-1760517000-1760524200@westhartfordgardenclub.org
SUMMARY:Gardening @ Noah Webster House
DESCRIPTION:1.  Shifts are scheduled from 8:30 am to 10:30 am.\n 2.  Please bring your favorite tools for weeding and pruning.\n3.  Anyone who would like to work alone and enjoy the garden as it begins to grow is certainly welcome to do so!\n4.  If it is raining on your scheduled day\, the rain date will be the next day.
URL:https://westhartfordgardenclub.org/event/gardening-noah-webster-house-8/
LOCATION:Noah Webster House\, 227 South Main Street\, West Hartford\, CT\, United States
ORGANIZER;CN="Susan Grew":MAILTO:srider56@comcast.net
END:VEVENT
BEGIN:VEVENT
DTSTART;TZID=America/New_York:20251015T100000
DTEND;TZID=America/New_York:20251015T100000
DTSTAMP:20260424T220328
CREATED:20250926T141213Z
LAST-MODIFIED:20250926T141313Z
UID:15901-1760522400-1760522400@westhartfordgardenclub.org
SUMMARY:WHGC Program Meeting
DESCRIPTION:
URL:https://westhartfordgardenclub.org/event/whgc-program-meeting/
LOCATION:Madeleine Hexter\, 142 Bainbridge Road\, West Hartford\, CT\, United States
ORGANIZER;CN="Madeleine Hexter":MAILTO:madzh@comcast.net
END:VEVENT
BEGIN:VEVENT
DTSTART;TZID=America/New_York:20251018T080000
DTEND;TZID=America/New_York:20251018T130000
DTSTAMP:20260424T220328
CREATED:20251004T175611Z
LAST-MODIFIED:20251004T175635Z
UID:15937-1760774400-1760792400@westhartfordgardenclub.org
SUMMARY:Civic Projects - Ribbon Cutting for Conny the Whale
DESCRIPTION:Tentative date at Trout Brook Drive (meet at the Whale Tail).
URL:https://westhartfordgardenclub.org/event/civic-projects-ribbon-cutting-for-conny-the-whale/
LOCATION:CT
ORGANIZER;CN="Beth Ann Loveland Sennett":MAILTO:blovelandsennett56@gmail.com
END:VEVENT
BEGIN:VEVENT
DTSTART;TZID=America/New_York:20251021T083000
DTEND;TZID=America/New_York:20251021T103000
DTSTAMP:20260424T220328
CREATED:20250702T205733Z
LAST-MODIFIED:20250702T205733Z
UID:15215-1761035400-1761042600@westhartfordgardenclub.org
SUMMARY:Gardening @ Butler-McCook
DESCRIPTION:Please plan to give us at least one hour of your time during the morning. Please bring your favorite tools for weeding and pruning. A co-chair will arrive at the garden by 8:30 a.m. \nPARKING: Parking will be in the paved lot next to the Amos Bull House on South Prospect Street. We encourage you to carpool as space is limited. \nWe plan to work if the rain is light. If it is pouring\, you will get a cancellation call by 8:00 a.m.
URL:https://westhartfordgardenclub.org/event/gardening-butler-mccook-6/
LOCATION:Butler-McCook Garden\, 396 Main Street\, Hartford\, CT\, United States
ORGANIZER;CN="Linda Aldrich":MAILTO:ljaldrich@hotmail.com
END:VEVENT
BEGIN:VEVENT
DTSTART;TZID=America/New_York:20251022T090000
DTEND;TZID=America/New_York:20251022T090000
DTSTAMP:20260424T220328
CREATED:20251004T173638Z
LAST-MODIFIED:20251004T174256Z
UID:15929-1761123600-1761123600@westhartfordgardenclub.org
SUMMARY:FGCCT - 96th Annual Awards Meeting & Luncheon
DESCRIPTION:Celebrate the end of another wonderful gardening season with friends from across the state! The FGCCT Awards Luncheon is the perfect opportunity to connect and be inspired by outstanding club and individual accomplishments from the past year as we honor this year’s award recipients. \nSchedule: \n9:00 a.m. – Doors open for coffee\, early holiday shopping with our curated vendors\, and get your tickets to enter our popular raffle\n10:00 a.m. – Program begins\nThis year’s luncheon will feature centerpieces inspired by the upcoming State Flower Show theme: “A Storybook Garden” and a delicious seasonal three-course meal including Butternut Squash Bisque\, your choice of entrée and French Vanilla Ice Cream with Hot Apple Topping. \nEntree Choices: \nAutumn Chicken – Lightly breaded chicken breast topped with roasted butternut squash and dried cranberries\, finished with a cranberry molasses demi-glace\nNew York Strip Sirloin – (Gluten-Free)\nPan-Seared Salmon – Fillet with whole grain mustard and honey-ginger glaze (Gluten-Free)\nVegetarian Pasta Primavera – Seasonal vegetables tossed in alfredo sauce\nCost: $49 per person (subsidized by FGCCT) \nThe online reservation portal will be available starting September 1. The fall luncheon typically sells out—please reserve early! \nMark your calendars for a day of celebration\, shopping\, inspiration\, and fun at one of our most cherished events of the year. We can’t wait to see you there!
URL:https://westhartfordgardenclub.org/event/fgcct-96th-annual-awards-meeting-luncheon/
LOCATION:Aqua Turf Club\, 556 Mulberry Street\, Plantsville\, CT\, United States
END:VEVENT
BEGIN:VEVENT
DTSTART;TZID=America/New_York:20251024T100000
DTEND;TZID=America/New_York:20251024T100000
DTSTAMP:20260424T220328
CREATED:20251014T210235Z
LAST-MODIFIED:20251014T210235Z
UID:16037-1761300000-1761300000@westhartfordgardenclub.org
SUMMARY:Rededication of the Friendship Garden
DESCRIPTION:There will be a rededication of the Friendship Garden at the corner of Park Road and Raymond Road with townspeople\, the girls’ parents\, and neighbors.  All Garden Club members are invited.
URL:https://westhartfordgardenclub.org/event/rededication-of-the-friendship-garden/
LOCATION:CT
END:VEVENT
END:VCALENDAR