BEGIN:VCALENDAR
VERSION:2.0
PRODID:-//The West Hartford Garden Club - ECPv6.15.20//NONSGML v1.0//EN
CALSCALE:GREGORIAN
METHOD:PUBLISH
X-WR-CALNAME:The West Hartford Garden Club
X-ORIGINAL-URL:https://westhartfordgardenclub.org
X-WR-CALDESC:Events for The West Hartford Garden Club
REFRESH-INTERVAL;VALUE=DURATION:PT1H
X-Robots-Tag:noindex
X-PUBLISHED-TTL:PT1H
BEGIN:VTIMEZONE
TZID:America/New_York
BEGIN:DAYLIGHT
TZOFFSETFROM:-0500
TZOFFSETTO:-0400
TZNAME:EDT
DTSTART:20240310T070000
END:DAYLIGHT
BEGIN:STANDARD
TZOFFSETFROM:-0400
TZOFFSETTO:-0500
TZNAME:EST
DTSTART:20241103T060000
END:STANDARD
BEGIN:DAYLIGHT
TZOFFSETFROM:-0500
TZOFFSETTO:-0400
TZNAME:EDT
DTSTART:20250309T070000
END:DAYLIGHT
BEGIN:STANDARD
TZOFFSETFROM:-0400
TZOFFSETTO:-0500
TZNAME:EST
DTSTART:20251102T060000
END:STANDARD
BEGIN:DAYLIGHT
TZOFFSETFROM:-0500
TZOFFSETTO:-0400
TZNAME:EDT
DTSTART:20260308T070000
END:DAYLIGHT
BEGIN:STANDARD
TZOFFSETFROM:-0400
TZOFFSETTO:-0500
TZNAME:EST
DTSTART:20261101T060000
END:STANDARD
END:VTIMEZONE
BEGIN:VEVENT
DTSTART;TZID=America/New_York:20250920T093000
DTEND;TZID=America/New_York:20250920T093000
DTSTAMP:20260425T090723
CREATED:20250801T202536Z
LAST-MODIFIED:20250911T011843Z
UID:15382-1758360600-1758360600@westhartfordgardenclub.org
SUMMARY:Field Trip
DESCRIPTION:For more information\, please click here Garden Tour 2025.
URL:https://westhartfordgardenclub.org/event/field-trip/
LOCATION:New England Botanical Garden\, 11 French Drive\, Boylston\, MA\, United States
END:VEVENT
BEGIN:VEVENT
DTSTART;TZID=America/New_York:20250918T100000
DTEND;TZID=America/New_York:20250918T100000
DTSTAMP:20260425T090723
CREATED:20250825T194208Z
LAST-MODIFIED:20250825T195353Z
UID:15508-1758189600-1758189600@westhartfordgardenclub.org
SUMMARY:Program Committee Meeting
DESCRIPTION:It is time to start planning for our West Hartford Garden Club 2026-2027 Program Year. \nCommittee\, please bring your program ideas and any relevant contact information for speakers.  I am currently working on setting up the Board meeting and General meeting dates for the 2026-2027 WHGC year and will email them to you along with the list of potential programs that we gathered last year.
URL:https://westhartfordgardenclub.org/event/program-committee-meeting/
LOCATION:Madeleine Hexter\, 142 Bainbridge Road\, West Hartford\, CT\, United States
ORGANIZER;CN="Madeleine Hexter":MAILTO:madzh@comcast.net
END:VEVENT
BEGIN:VEVENT
DTSTART;TZID=America/New_York:20250917T093000
DTEND;TZID=America/New_York:20250917T140000
DTSTAMP:20260425T090723
CREATED:20250801T211546Z
LAST-MODIFIED:20250801T212538Z
UID:15399-1758101400-1758117600@westhartfordgardenclub.org
SUMMARY:Let's Celebrate Lavender Luncheon
DESCRIPTION:Please see invitation below: \n  \nLavender Luncheon
URL:https://westhartfordgardenclub.org/event/lets-celebrate-lavender-luncheon/
LOCATION:Pond House Cafe at Elizabeth Park\, 1555 Asylum Avenue\, West Hartford\, CT\, United States
END:VEVENT
BEGIN:VEVENT
DTSTART;TZID=America/New_York:20250917T083000
DTEND;TZID=America/New_York:20250917T103000
DTSTAMP:20260425T090723
CREATED:20250702T211815Z
LAST-MODIFIED:20250702T211815Z
UID:15230-1758097800-1758105000@westhartfordgardenclub.org
SUMMARY:Gardening @ Noah Webster House
DESCRIPTION:1.  Shifts are scheduled from 8:30 am to 10:30 am.\n 2.  Please bring your favorite tools for weeding and pruning.\n3.  Anyone who would like to work alone and enjoy the garden as it begins to grow is certainly welcome to do so!\n4.  If it is raining on your scheduled day\, the rain date will be the next day.
URL:https://westhartfordgardenclub.org/event/gardening-noah-webster-house-6/
LOCATION:Noah Webster House\, 227 South Main Street\, West Hartford\, CT\, United States
ORGANIZER;CN="Susan Grew":MAILTO:srider56@comcast.net
END:VEVENT
BEGIN:VEVENT
DTSTART;TZID=America/New_York:20250911T083000
DTEND;TZID=America/New_York:20250911T133000
DTSTAMP:20260425T090723
CREATED:20250907T202946Z
LAST-MODIFIED:20250907T203821Z
UID:15602-1757579400-1757597400@westhartfordgardenclub.org
SUMMARY:Planting Perennials at 4 Elementary Schools
DESCRIPTION:Save the Date: 9/11/25\, 8:30 am – 1:30 pm (with a break for lunch) \nAs of last Friday\, the Town of West Hartford officially has\nschool-campus pollinator gardens as a part of our school curriculum! \nZachary Potter-Vose\, who has been working hard as part of a board of education project to establish the\nnew town-wide 3rd grade outdoor curriculum\, is planting perennials to make improvements at four elementary schools in town. He plans to spend about 1 hour at each school to plant about a dozen plants in the established garden beds at each school\, adding a light mulch cover\, and watering. He is looking for +/- 2 volunteers to help\, and could break up the day with different volunteers depending on their availability. \nIs this something you might be interested in supporting?  If so\,\ninterested volunteers can coordinate with me or with Zack directly\nover email (zachary_vose@whps.org) or by phone (860-301-8970). \nZack plans to work at the following schools on the 11th: \nAiken\nNorfeldt\nWhiting Lane\nWolcott
URL:https://westhartfordgardenclub.org/event/planting-perennials-at-4-elementary-schools/
LOCATION:CT
ORGANIZER;CN="Beth Ann Loveland Sennett":MAILTO:blovelandsennett56@gmail.com
END:VEVENT
BEGIN:VEVENT
DTSTART;TZID=America/New_York:20250910T170000
DTEND;TZID=America/New_York:20250910T183000
DTSTAMP:20260425T090723
CREATED:20250815T004939Z
LAST-MODIFIED:20250815T010437Z
UID:15435-1757523600-1757529000@westhartfordgardenclub.org
SUMMARY:Floral Design Workshop - Art of Japanese Flower Arrangement
DESCRIPTION:First Workshop of year 2025-2026 – The Art of Japanese Flower Arrangement \nIkebana is not merely about arranging flowers.  It is about conveying the seasons\, the beauty of nature\, and the heart of the arranger. \n \n  \n\nWhen branches\, flowers\, and grasses are cut\, they must be put in water to make them last longer.\nJoin us for a serene journey into the world of Ikebana\, the centuries-old Japanese art of floral design.\n\nFor Signing up: email to Eva Jakuba (eva.jakuba@gmail.com) \nMaterial: All materials will be provided – Cost will be $25 (This will be collected at the workshop) \nWhether you’re a beginner or have prior experience\, this hands-on workshop will guide you through basic techniques\, design principles\, and the philosophy behind Ikebana. \nYou’ll create your own arrangement to take home\, while enjoying a relaxing and creative atmosphere. \nThe workshop size is limited\, but we will keep a waiting list. \nNote that this workshop is held in the LATE afternoon and on WEDNESDAY (different time and day from our other workshops). \nReserve your spot today and experience the meditative beauty of Ikebana.
URL:https://westhartfordgardenclub.org/event/15435/
LOCATION:Noah Webster House\, 227 South Main Street\, West Hartford\, CT\, United States
ORGANIZER;CN="Eva Jakuba":MAILTO:eva.jakuba@gmail.com
END:VEVENT
BEGIN:VEVENT
DTSTART;TZID=America/New_York:20250910T103000
DTEND;TZID=America/New_York:20250910T123000
DTSTAMP:20260425T090723
CREATED:20250909T010746Z
LAST-MODIFIED:20250909T011210Z
UID:15676-1757500200-1757507400@westhartfordgardenclub.org
SUMMARY:Civic Projects - Weeding
DESCRIPTION:We’ll meet at the back parking lot entrance. \nThe native pollinator garden along the walkway needs some\nattention—mostly crabgrass and smartweed. With a small team\, the work\nshould go quickly\, and we may even have time to pull a few weeds by\nthe Oakwood Avenue entrance to the Charter Oak International Academy\n(COIA) as well. \nWhat to bring: \nGardening hat & gloves \nKnee pad (if you use one) \nWater bottle \nLeaf bag for debris \nTools you might want to use to pull any larger weeds \nI’ll also bring paper bags for collecting seeds from the gardens.\nThese will support our Seed Saving/Seed Sharing event at Noah Webster\nPublic Library\, the Winter Sowing program in January\, and the Seed\nLibrary. If you’ve already been gathering seeds for our club’s\noutreach\, feel free to bring them so I can set them aside.
URL:https://westhartfordgardenclub.org/event/civic-projects-weeding/
LOCATION:Charter Oak International Academy\, 425 Oakwood Avenue\, West Hartford\, CT\, United States
ORGANIZER;CN="Beth Ann Loveland Sennett":MAILTO:blovelandsennett56@gmail.com
END:VEVENT
BEGIN:VEVENT
DTSTART;TZID=America/New_York:20250909T083000
DTEND;TZID=America/New_York:20250909T103000
DTSTAMP:20260425T090723
CREATED:20250702T204017Z
LAST-MODIFIED:20250702T204234Z
UID:15208-1757406600-1757413800@westhartfordgardenclub.org
SUMMARY:Gardening @ Butler-McCook
DESCRIPTION:Please plan to give us at least one hour of your time during the morning. Please bring your favorite tools for weeding and pruning. A co-chair will arrive at the garden by 8:30 a.m. \nPARKING: Parking will be in the paved lot next to the Amos Bull House on South Prospect Street. We encourage you to carpool as space is limited. \nWe plan to work if the rain is light. If it is pouring\, you will get a cancellation call by 8:00 a.m.
URL:https://westhartfordgardenclub.org/event/gardening-butler-mccook-3/
LOCATION:Butler-McCook Garden\, 396 Main Street\, Hartford\, CT\, United States
ORGANIZER;CN="Linda Aldrich":MAILTO:ljaldrich@hotmail.com
END:VEVENT
BEGIN:VEVENT
DTSTART;TZID=America/New_York:20250904T120000
DTEND;TZID=America/New_York:20250904T140000
DTSTAMP:20260425T090723
CREATED:20250706T194332Z
LAST-MODIFIED:20250801T200943Z
UID:15291-1756987200-1756994400@westhartfordgardenclub.org
SUMMARY:General Meeting
DESCRIPTION:Autumn Joy: Focus on the Seasonal Slow Flower Movement\, presented by Michael Russo\, one of the founding members of the CT Flower Collective\, has grown and designed flowers for many weddings. Using in-season\, locally grown flowers and ecologically friendly techniques\, Michael will design five floral arrangements to be raffled.
URL:https://westhartfordgardenclub.org/event/general-meeting/
LOCATION:Saint John’s Episcopal Church\, 679 Farmington Avenue\, West Hartford\, CT\, United States
END:VEVENT
BEGIN:VEVENT
DTSTART;TZID=America/New_York:20250904T113000
DTEND;TZID=America/New_York:20250904T121500
DTSTAMP:20260425T090723
CREATED:20250812T145727Z
LAST-MODIFIED:20250812T145727Z
UID:15428-1756985400-1756988100@westhartfordgardenclub.org
SUMMARY:Photo Session for Members Only
DESCRIPTION:
URL:https://westhartfordgardenclub.org/event/photo-session-for-members-only/
LOCATION:Saint John’s Episcopal Church\, 679 Farmington Avenue\, West Hartford\, CT\, United States
ORGANIZER;CN="Denise Trammel":MAILTO:dtrammel3@outlook.com
END:VEVENT
BEGIN:VEVENT
DTSTART;TZID=America/New_York:20250903T083000
DTEND;TZID=America/New_York:20250903T103000
DTSTAMP:20260425T090723
CREATED:20250702T211617Z
LAST-MODIFIED:20250702T211617Z
UID:15228-1756888200-1756895400@westhartfordgardenclub.org
SUMMARY:Gardening @ Noah Webster House
DESCRIPTION:1.  Shifts are scheduled from 8:30 am to 10:30 am.\n 2.  Please bring your favorite tools for weeding and pruning.\n3.  Anyone who would like to work alone and enjoy the garden as it begins to grow is certainly welcome to do so!\n4.  If it is raining on your scheduled day\, the rain date will be the next day.
URL:https://westhartfordgardenclub.org/event/gardening-noah-webster-house-5/
LOCATION:Noah Webster House\, 227 South Main Street\, West Hartford\, CT\, United States
ORGANIZER;CN="Susan Grew":MAILTO:srider56@comcast.net
END:VEVENT
BEGIN:VEVENT
DTSTART;TZID=America/New_York:20250902T090000
DTEND;TZID=America/New_York:20250902T110000
DTSTAMP:20260425T090723
CREATED:20250702T212930Z
LAST-MODIFIED:20250702T212930Z
UID:15236-1756803600-1756810800@westhartfordgardenclub.org
SUMMARY:Board Meeting
DESCRIPTION:
URL:https://westhartfordgardenclub.org/event/board-meeting/
LOCATION:Diane Mazar-Robets\, 32 Ridgebrook Road\, West Hartford\, CT\, United States
ORGANIZER;CN="Diane Mazar-Roberts":MAILTO:damask33@comcast.net
END:VEVENT
BEGIN:VEVENT
DTSTART;TZID=America/New_York:20250826T083000
DTEND;TZID=America/New_York:20250826T103000
DTSTAMP:20260425T090723
CREATED:20250702T203744Z
LAST-MODIFIED:20250702T203744Z
UID:15206-1756197000-1756204200@westhartfordgardenclub.org
SUMMARY:Gardening @ Butler McCook
DESCRIPTION:Please plan to give us at least one hour of your time during the morning. Please bring your favorite tools for weeding and pruning. A co-chair will arrive at the garden by 8:30 a.m. \nPARKING: Parking will be in the paved lot next to the Amos Bull House on South Prospect Street. We encourage you to carpool as space is limited. \nWe plan to work if the rain is light. If it is pouring\, you will get a cancellation call by 8:00 a.m.
URL:https://westhartfordgardenclub.org/event/gardening-butler-mccook-2/
LOCATION:Butler-McCook Garden\, 396 Main Street\, Hartford\, CT\, United States
ORGANIZER;CN="Linda Aldrich":MAILTO:ljaldrich@hotmail.com
END:VEVENT
BEGIN:VEVENT
DTSTART;TZID=America/New_York:20250820T083000
DTEND;TZID=America/New_York:20250820T103000
DTSTAMP:20260425T090723
CREATED:20250702T211443Z
LAST-MODIFIED:20250702T211443Z
UID:15226-1755678600-1755685800@westhartfordgardenclub.org
SUMMARY:Gardening @ Noah Webster House
DESCRIPTION:1.  Shifts are scheduled from 8:30 am to 10:30 am.\n 2.  Please bring your favorite tools for weeding and pruning.\n3.  Anyone who would like to work alone and enjoy the garden as it begins to grow is certainly welcome to do so!\n4.  If it is raining on your scheduled day\, the rain date will be the next day.
URL:https://westhartfordgardenclub.org/event/gardening-noah-webster-house-4/
LOCATION:Noah Webster House\, 227 South Main Street\, West Hartford\, CT\, United States
ORGANIZER;CN="Susan Grew":MAILTO:srider56@comcast.net
END:VEVENT
BEGIN:VEVENT
DTSTART;TZID=America/New_York:20250812T083000
DTEND;TZID=America/New_York:20250812T103000
DTSTAMP:20260425T090723
CREATED:20250702T203019Z
LAST-MODIFIED:20250702T203128Z
UID:15202-1754987400-1754994600@westhartfordgardenclub.org
SUMMARY:Gardening @ Butler-McCook
DESCRIPTION:Please plan to give us at least one hour of your time during the morning. Please bring your favorite tools for weeding and pruning. A co-chair will arrive at the garden by 8:30 a.m. \nPARKING: Parking will be in the paved lot next to the Amos Bull House on South Prospect Street. We encourage you to carpool as space is limited. \nWe plan to work if the rain is light. If it is pouring\, you will get a cancellation call by 8:00 a.m.
URL:https://westhartfordgardenclub.org/event/gardening-butler-mccook/
LOCATION:Butler-McCook Garden\, 396 Main Street\, Hartford\, CT\, United States
ORGANIZER;CN="Linda Aldrich":MAILTO:ljaldrich@hotmail.com
END:VEVENT
BEGIN:VEVENT
DTSTART;TZID=America/New_York:20250806T083000
DTEND;TZID=America/New_York:20250806T103000
DTSTAMP:20260425T090723
CREATED:20250702T211234Z
LAST-MODIFIED:20250702T211234Z
UID:15224-1754469000-1754476200@westhartfordgardenclub.org
SUMMARY:Gardening @ Noah Webster House
DESCRIPTION:1.  Shifts are scheduled from 8:30 am to 10:30 am.\n 2.  Please bring your favorite tools for weeding and pruning.\n3.  Anyone who would like to work alone and enjoy the garden as it begins to grow is certainly welcome to do so!\n4.  If it is raining on your scheduled day\, the rain date will be the next day.
URL:https://westhartfordgardenclub.org/event/gardening-noah-webster-house-3/
LOCATION:Noah Webster House\, 227 South Main Street\, West Hartford\, CT\, United States
ORGANIZER;CN="Susan Grew":MAILTO:srider56@comcast.net
END:VEVENT
BEGIN:VEVENT
DTSTART;TZID=America/New_York:20250729T083000
DTEND;TZID=America/New_York:20250729T103000
DTSTAMP:20260425T090723
CREATED:20250702T195405Z
LAST-MODIFIED:20250702T205957Z
UID:15192-1753777800-1753785000@westhartfordgardenclub.org
SUMMARY:Gardening @ Butler-McCook
DESCRIPTION:Please plan to give us at least one hour of your time during the morning. Please bring your favorite tools for weeding and pruning. A co-chair will arrive at the garden by 8:30 a.m. \nPARKING: Parking will be in the paved lot next to the Amos Bull House on South Prospect Street. We encourage you to carpool as space is limited. \nWe plan to work if the rain is light. If it is pouring\, you will get a cancellation call by 8:00 a.m.
URL:https://westhartfordgardenclub.org/event/gardening/
LOCATION:Butler-McCook Garden\, 396 Main Street\, Hartford\, CT\, United States
ORGANIZER;CN="Linda Aldrich":MAILTO:ljaldrich@hotmail.com
END:VEVENT
BEGIN:VEVENT
DTSTART;TZID=America/New_York:20250723T083000
DTEND;TZID=America/New_York:20250723T103000
DTSTAMP:20260425T090723
CREATED:20250702T091026Z
LAST-MODIFIED:20250702T211044Z
UID:15150-1753259400-1753266600@westhartfordgardenclub.org
SUMMARY:Gardening @ Noah Webster House
DESCRIPTION:1.  Shifts are scheduled from 8:30 am to 10:30 am.\n 2.  Please bring your favorite tools for weeding and pruning.\n3.  Anyone who would like to work alone and enjoy the garden as it begins to grow is certainly welcome to do so!\n4.  If it is raining on your scheduled day\, the rain date will be the next day.
URL:https://westhartfordgardenclub.org/event/gardening-noah-webster-house/
LOCATION:Noah Webster House\, 227 South Main Street\, West Hartford\, CT\, United States
ORGANIZER;CN="Susan Grew":MAILTO:srider56@comcast.net
END:VEVENT
BEGIN:VEVENT
DTSTART;TZID=America/New_York:20250715T083000
DTEND;TZID=America/New_York:20250715T103000
DTSTAMP:20260425T090723
CREATED:20250702T090723Z
LAST-MODIFIED:20250708T132239Z
UID:15146-1752568200-1752575400@westhartfordgardenclub.org
SUMMARY:Gardening @ Butler-McCook Garden - CANCELED
DESCRIPTION:Please plan to give us at least one hour of your time during the morning. Please bring your favorite tools for weeding and pruning. A co-chair will arrive at the garden by 8:30 a.m. \nPARKING: Parking will be in the paved lot next to the Amos Bull House on South Prospect Street. We encourage you to carpool as space is limited. \nWe plan to work if the rain is light. If it is pouring\, you will get a cancellation call by 8:00 a.m.
URL:https://westhartfordgardenclub.org/event/gardening-butler-mccook-garden/
LOCATION:Butler-McCook Garden\, 396 Main Street\, Hartford\, CT\, United States
ORGANIZER;CN="Linda Aldrich":MAILTO:ljaldrich@hotmail.com
END:VEVENT
BEGIN:VEVENT
DTSTART;TZID=America/New_York:20250709T083000
DTEND;TZID=America/New_York:20250709T103000
DTSTAMP:20260425T090723
CREATED:20250702T210420Z
LAST-MODIFIED:20250702T210544Z
UID:15219-1752049800-1752057000@westhartfordgardenclub.org
SUMMARY:Gardening @ Noah Webster House
DESCRIPTION:1.  Shifts are scheduled from 8:30 am to 10:30 am.\n 2.  Please bring your favorite tools for weeding and pruning.\n3.  Anyone who would like to work alone and enjoy the garden as it begins to grow is certainly welcome to do so!\n4.  If it is raining on your scheduled day\, the rain date will be the next day.
URL:https://westhartfordgardenclub.org/event/gardening-noah-webster-house-2/
LOCATION:Noah Webster House\, 227 South Main Street\, West Hartford\, CT\, United States
ORGANIZER;CN="Susan Grew":MAILTO:srider56@comcast.net
END:VEVENT
BEGIN:VEVENT
DTSTART;TZID=America/New_York:20250708T100000
DTEND;TZID=America/New_York:20250711T170000
DTSTAMP:20260425T090723
CREATED:20250702T090327Z
LAST-MODIFIED:20250702T090327Z
UID:15143-1751968800-1752253200@westhartfordgardenclub.org
SUMMARY:2025 National Children & Youth Symposium @ Connecticut Science Center
DESCRIPTION:
URL:https://westhartfordgardenclub.org/event/2025-national-children-youth-symposium-connecticut-science-center/
LOCATION:Connecticut Science\, Center\, 250 Columbus Blvd.\, Hartford\, CT\, United States
END:VEVENT
END:VCALENDAR