BEGIN:VCALENDAR
VERSION:2.0
PRODID:-//The West Hartford Garden Club - ECPv6.15.20//NONSGML v1.0//EN
CALSCALE:GREGORIAN
METHOD:PUBLISH
X-WR-CALNAME:The West Hartford Garden Club
X-ORIGINAL-URL:https://westhartfordgardenclub.org
X-WR-CALDESC:Events for The West Hartford Garden Club
REFRESH-INTERVAL;VALUE=DURATION:PT1H
X-Robots-Tag:noindex
X-PUBLISHED-TTL:PT1H
BEGIN:VTIMEZONE
TZID:America/New_York
BEGIN:DAYLIGHT
TZOFFSETFROM:-0500
TZOFFSETTO:-0400
TZNAME:EDT
DTSTART:20250309T070000
END:DAYLIGHT
BEGIN:STANDARD
TZOFFSETFROM:-0400
TZOFFSETTO:-0500
TZNAME:EST
DTSTART:20251102T060000
END:STANDARD
BEGIN:DAYLIGHT
TZOFFSETFROM:-0500
TZOFFSETTO:-0400
TZNAME:EDT
DTSTART:20260308T070000
END:DAYLIGHT
BEGIN:STANDARD
TZOFFSETFROM:-0400
TZOFFSETTO:-0500
TZNAME:EST
DTSTART:20261101T060000
END:STANDARD
BEGIN:DAYLIGHT
TZOFFSETFROM:-0500
TZOFFSETTO:-0400
TZNAME:EDT
DTSTART:20270314T070000
END:DAYLIGHT
BEGIN:STANDARD
TZOFFSETFROM:-0400
TZOFFSETTO:-0500
TZNAME:EST
DTSTART:20271107T060000
END:STANDARD
END:VTIMEZONE
BEGIN:VEVENT
DTSTART;TZID=America/New_York:20260504T090000
DTEND;TZID=America/New_York:20260504T110000
DTSTAMP:20260425T083813
CREATED:20250702T215741Z
LAST-MODIFIED:20250702T215741Z
UID:15260-1777885200-1777892400@westhartfordgardenclub.org
SUMMARY:Board Meeting
DESCRIPTION:
URL:https://westhartfordgardenclub.org/event/board-meeting-7/
LOCATION:Maureen Gould\, 89 Robin Road\, West Hartford\, CT\, United States
ORGANIZER;CN="Maureen Gould":MAILTO:mcgould89@comcast.net
END:VEVENT
BEGIN:VEVENT
DTSTART;TZID=America/New_York:20260429T083000
DTEND;TZID=America/New_York:20260429T103000
DTSTAMP:20260425T083813
CREATED:20260322T223658Z
LAST-MODIFIED:20260322T223658Z
UID:17074-1777451400-1777458600@westhartfordgardenclub.org
SUMMARY:Gardening
DESCRIPTION:1.  Shifts are scheduled from 8:30 am to 10:30 am.\n 2.  Please bring your favorite tools for weeding and pruning.\n3.  Anyone who would like to work alone and enjoy the garden as it begins to grow is certainly welcome to do so!\n4.  If it is raining on your scheduled day\, the rain date will be the next day.
URL:https://westhartfordgardenclub.org/event/gardening-19/
LOCATION:Noah Webster House\, 227 South Main Street\, West Hartford\, CT\, United States
ORGANIZER;CN="Maureen Gould":MAILTO:mcgould89@comcast.net
END:VEVENT
BEGIN:VEVENT
DTSTART;TZID=America/New_York:20260428T123000
DTEND;TZID=America/New_York:20260428T150000
DTSTAMP:20260425T083813
CREATED:20260303T211835Z
LAST-MODIFIED:20260303T211835Z
UID:16772-1777379400-1777388400@westhartfordgardenclub.org
SUMMARY:Civic Projects - Seed Sorting
DESCRIPTION:Seed sorting for the 2026 Seed Library Opening is a fun weekly event from November through April. Sessions are held most Tuesdays from 12:30 pm – 3 pm in the Story Time Room at the Noah Webster Memorial Library Children’s Department\, beginning on November 4\, 2025. Parking is available at the Isham Lot at Blue Back Square – please do not pay at the kiosk in the garage or on the phone app. Rather\, just provide your license plate number to the Children’s Librarian and let the librarian know that you are with the seed library group for 3 hours. \nLooking forward to meeting again for a new season! Please call us with any questions or concerns.
URL:https://westhartfordgardenclub.org/event/civic-projects-seed-sorting-14/
LOCATION:Noah Webster Library\, 20 South Main Street\, West Hartford\, CT\, United States
ORGANIZER;CN="Janice Schnabel":MAILTO:janice.schnabel@gmail.com
END:VEVENT
BEGIN:VEVENT
DTSTART;TZID=America/New_York:20260428T090000
DTEND;TZID=America/New_York:20260428T090000
DTSTAMP:20260425T083813
CREATED:20260205T212258Z
LAST-MODIFIED:20260226T215158Z
UID:16484-1777366800-1777366800@westhartfordgardenclub.org
SUMMARY:Field Trip
DESCRIPTION:Field Trip to Wicked Tulips Flower Farm at 382 Route 164\, Preston\, CT. \n \nThe cost is $20 per ticket\, which includes entrance and 10 pick-your-own tulips. You can sign up at our March and April general meetings.\nPlease send a $20 check made out to the “West Hartford Garden Club” to Billie Reese\, 82 Foxridge Road\, West Hartford\, CT 06107.\n\nTrip Details:\n– Location: 382 Route 164\, Preston\, CT\n– Arrival Time: 10:00 AM (We will be carpooling for the approximately one-hour drive.)\n– Lunch: Following the visit\, we will have lunch at Tulli’s Taphouse (259 Preston Road\, Jewett City\, CT). You can place your own order upon arrival.
URL:https://westhartfordgardenclub.org/event/field-trip-2/
LOCATION:Wicked Tulips Flower Farm\, 382 Route 164\, Preston\, CT\, United States
ORGANIZER;CN="Billie Reese":MAILTO:billie.reese1@gmail.com
END:VEVENT
BEGIN:VEVENT
DTSTART;TZID=America/New_York:20260426T100000
DTEND;TZID=America/New_York:20260426T170000
DTSTAMP:20260425T083814
CREATED:20260307T201945Z
LAST-MODIFIED:20260307T201945Z
UID:16845-1777197600-1777222800@westhartfordgardenclub.org
SUMMARY:Fine Art & Flowers
DESCRIPTION:  \nCelebrate spring at The Wadsworth during our 43rd Annual Fine Art & Flowers! See breathtaking arrangements inspired by artworks across the museum\, enjoy live entertainment\, and visit our galleries. \nFine Art & Flowers is presented by the Friends of the Wadsworth Atheneum. All event proceeds support exhibitions and educational programs.
URL:https://westhartfordgardenclub.org/event/fine-art-flowers-4/
LOCATION:Wadsworth Atheneum\, 600 Main Street\, Hartford\, CT\, United States
END:VEVENT
BEGIN:VEVENT
DTSTART;TZID=America/New_York:20260425T100000
DTEND;TZID=America/New_York:20260425T170000
DTSTAMP:20260425T083814
CREATED:20260307T201118Z
LAST-MODIFIED:20260307T201312Z
UID:16841-1777111200-1777136400@westhartfordgardenclub.org
SUMMARY:Fine Art & Flowers
DESCRIPTION:Celebrate spring at The Wadsworth during our 43rd Annual Fine Art & Flowers! See breathtaking arrangements inspired by artworks across the museum\, enjoy live entertainment\, and visit our galleries. \nFine Art & Flowers is presented by the Friends of the Wadsworth Atheneum. All event proceeds support exhibitions and educational programs.
URL:https://westhartfordgardenclub.org/event/fine-art-flowers-2/
LOCATION:Wadsworth Atheneum\, 600 Main Street\, Hartford\, CT\, United States
END:VEVENT
BEGIN:VEVENT
DTSTART;TZID=America/New_York:20260424T120000
DTEND;TZID=America/New_York:20260424T170000
DTSTAMP:20260425T083814
CREATED:20260307T200650Z
LAST-MODIFIED:20260307T200759Z
UID:16837-1777032000-1777050000@westhartfordgardenclub.org
SUMMARY:Fine Art & Flowers
DESCRIPTION:Celebrate spring at The Wadsworth during our 43rd Annual Fine Art & Flowers! See breathtaking arrangements inspired by artworks across the museum\, enjoy live entertainment\, and visit our galleries. \nFine Art & Flowers is presented by the Friends of the Wadsworth Atheneum. All event proceeds support exhibitions and educational programs.
URL:https://westhartfordgardenclub.org/event/fine-art-flowers/
LOCATION:Wadsworth Atheneum\, 600 Main Street\, Hartford\, CT\, United States
END:VEVENT
BEGIN:VEVENT
DTSTART;TZID=America/New_York:20260421T123000
DTEND;TZID=America/New_York:20260421T150000
DTSTAMP:20260425T083814
CREATED:20260303T211648Z
LAST-MODIFIED:20260303T211648Z
UID:16770-1776774600-1776783600@westhartfordgardenclub.org
SUMMARY:Civic Projects - Seed Sorting
DESCRIPTION:Seed sorting for the 2026 Seed Library Opening is a fun weekly event from November through April. Sessions are held most Tuesdays from 12:30 pm – 3 pm in the Story Time Room at the Noah Webster Memorial Library Children’s Department\, beginning on November 4\, 2025. Parking is available at the Isham Lot at Blue Back Square – please do not pay at the kiosk in the garage or on the phone app. Rather\, just provide your license plate number to the Children’s Librarian and let the librarian know that you are with the seed library group for 3 hours. \nLooking forward to meeting again for a new season! Please call us with any questions or concerns.
URL:https://westhartfordgardenclub.org/event/civic-projects-seed-sorting-13/
LOCATION:Noah Webster Library\, 20 South Main Street\, West Hartford\, CT\, United States
ORGANIZER;CN="Janice Schnabel":MAILTO:janice.schnabel@gmail.com
END:VEVENT
BEGIN:VEVENT
DTSTART;TZID=America/New_York:20260421T083000
DTEND;TZID=America/New_York:20260421T103000
DTSTAMP:20260425T083814
CREATED:20260206T210746Z
LAST-MODIFIED:20260206T210746Z
UID:16505-1776760200-1776767400@westhartfordgardenclub.org
SUMMARY:Gardening
DESCRIPTION:Please plan to give us at least one hour of your time during the morning. Please bring your favorite tools for weeding and pruning. A co-chair will arrive at the garden by 8:30 a.m. \nPARKING: Parking will be in the paved lot next to the Amos Bull House on South Prospect Street. We encourage you to carpool as space is limited. \nWe plan to work if the rain is light. If it is pouring\, you will get a cancellation call by 8:00 a.m. \n• If you are unable to work on your signup date\, please let me know so that we can reschedule you and help you find a replacement for your shift. \n• Kindly confirm that you have received this message\, by replying to ljaldrich@hotmail.com or text 860-227-2730. \nThank you for helping to make the Butler McCook garden such a treasure for the greater Hartford region. \nBest regards\, \nLinda Aldrich\, Co-Chair\, 860 227-2730\nSue Bailey\, Co-Chair\, 860 573-4908\nSteve Kovack\, Co-Chair\, 860 521-6563: \nSign-up Page
URL:https://westhartfordgardenclub.org/event/gardening-3/
LOCATION:Butler-McCook Garden\, 396 Main Street\, Hartford\, CT\, United States
ORGANIZER;CN="Linda Aldrich":MAILTO:ljaldrich@hotmail.com
END:VEVENT
BEGIN:VEVENT
DTSTART;TZID=America/New_York:20260415T110000
DTEND;TZID=America/New_York:20260415T110000
DTSTAMP:20260425T083814
CREATED:20250801T210015Z
LAST-MODIFIED:20250801T210015Z
UID:15397-1776250800-1776250800@westhartfordgardenclub.org
SUMMARY:FGCCT Annual Meeting and Luncheon
DESCRIPTION:More information will be available closer to the event.
URL:https://westhartfordgardenclub.org/event/fgcct-annual-meeting-and-luncheon/
LOCATION:CT
END:VEVENT
BEGIN:VEVENT
DTSTART;TZID=America/New_York:20260415T083000
DTEND;TZID=America/New_York:20260415T103000
DTSTAMP:20260425T083814
CREATED:20260322T223148Z
LAST-MODIFIED:20260322T223528Z
UID:17071-1776241800-1776249000@westhartfordgardenclub.org
SUMMARY:Gardening
DESCRIPTION:1.  Shifts are scheduled from 8:30 am to 10:30 am.\n 2.  Please bring your favorite tools for weeding and pruning.\n3.  Anyone who would like to work alone and enjoy the garden as it begins to grow is certainly welcome to do so!\n4.  If it is raining on your scheduled day\, the rain date will be the next day.
URL:https://westhartfordgardenclub.org/event/gardening-18/
LOCATION:Noah Webster House\, 227 South Main Street\, West Hartford\, CT\, United States
ORGANIZER;CN="Maureen Gould":MAILTO:mcgould89@comcast.net
END:VEVENT
BEGIN:VEVENT
DTSTART;TZID=America/New_York:20260414T123000
DTEND;TZID=America/New_York:20260414T150000
DTSTAMP:20260425T083814
CREATED:20260303T211350Z
LAST-MODIFIED:20260303T211350Z
UID:16768-1776169800-1776178800@westhartfordgardenclub.org
SUMMARY:Civic Projects - Seed Sorting
DESCRIPTION:Seed sorting for the 2026 Seed Library Opening is a fun weekly event from November through April. Sessions are held most Tuesdays from 12:30 pm – 3 pm in the Story Time Room at the Noah Webster Memorial Library Children’s Department\, beginning on November 4\, 2025. Parking is available at the Isham Lot at Blue Back Square – please do not pay at the kiosk in the garage or on the phone app. Rather\, just provide your license plate number to the Children’s Librarian and let the librarian know that you are with the seed library group for 3 hours. \nLooking forward to meeting again for a new season! Please call us with any questions or concerns.
URL:https://westhartfordgardenclub.org/event/civic-projects-seed-sorting-12/
LOCATION:Noah Webster Library\, 20 South Main Street\, West Hartford\, CT\, United States
ORGANIZER;CN="Janice Schnabel":MAILTO:janice.schnabel@gmail.com
END:VEVENT
BEGIN:VEVENT
DTSTART;TZID=America/New_York:20260409T113000
DTEND;TZID=America/New_York:20260409T140000
DTSTAMP:20260425T083814
CREATED:20250706T200216Z
LAST-MODIFIED:20260327T151257Z
UID:15307-1775734200-1775743200@westhartfordgardenclub.org
SUMMARY:General Meeting
DESCRIPTION:  \nTime: 11:30 am – 2:00 pm (Speaker may extend until 3:00 pm) \n\n \n“Gardening to Protect Pollinators\, Wildlife\, and Clean Water” \n\n\n \nSpeaker: Louise Washer\, co-founder and spokesperson for the Pollinator Pathway  \nBees and butterflies have declined precipitously in the past decade. In Louise’s slide lecture\, she will offer insight\, exploration\, science\, and how-tos\, all dedicated to protecting our pollinators.
URL:https://westhartfordgardenclub.org/event/general-meeting-5/
LOCATION:Saint John’s Episcopal Church\, 679 Farmington Avenue\, West Hartford\, CT\, United States
END:VEVENT
BEGIN:VEVENT
DTSTART;TZID=America/New_York:20260407T123000
DTEND;TZID=America/New_York:20260407T150000
DTSTAMP:20260425T083814
CREATED:20260303T210551Z
LAST-MODIFIED:20260303T210551Z
UID:16766-1775565000-1775574000@westhartfordgardenclub.org
SUMMARY:Civic Projects - Seed Sorting
DESCRIPTION:Seed sorting for the 2026 Seed Library Opening is a fun weekly event from November through April. Sessions are held most Tuesdays from 12:30 pm – 3 pm in the Story Time Room at the Noah Webster Memorial Library Children’s Department\, beginning on November 4\, 2025. Parking is available at the Isham Lot at Blue Back Square – please do not pay at the kiosk in the garage or on the phone app. Rather\, just provide your license plate number to the Children’s Librarian and let the librarian know that you are with the seed library group for 3 hours. \nLooking forward to meeting again for a new season! Please call us with any questions or concerns.
URL:https://westhartfordgardenclub.org/event/civic-projects-seed-sorting-11/
LOCATION:Noah Webster Library\, 20 South Main Street\, West Hartford\, CT\, United States
ORGANIZER;CN="Janice Schnabel":MAILTO:janice.schnabel@gmail.com
END:VEVENT
BEGIN:VEVENT
DTSTART;TZID=America/New_York:20260407T083000
DTEND;TZID=America/New_York:20260407T103000
DTSTAMP:20260425T083814
CREATED:20260206T205954Z
LAST-MODIFIED:20260206T210511Z
UID:16501-1775550600-1775557800@westhartfordgardenclub.org
SUMMARY:Gardening
DESCRIPTION:Please plan to give us at least one hour of your time during the morning. Please bring your favorite tools for weeding and pruning. A co-chair will arrive at the garden by 8:30 a.m. \nPARKING: Parking will be in the paved lot next to the Amos Bull House on South Prospect Street. We encourage you to carpool as space is limited. \nWe plan to work if the rain is light. If it is pouring\, you will get a cancellation call by 8:00 a.m. \n• If you are unable to work on your signup date\, please let me know so that we can reschedule you and help you find a replacement for your shift. \n• Kindly confirm that you have received this message\, by replying to ljaldrich@hotmail.com or text 860-227-2730. \nThank you for helping to make the Butler McCook garden such a treasure for the greater Hartford region. \nBest regards\, \nLinda Aldrich\, Co-Chair\, 860 227-2730\nSue Bailey\, Co-Chair\, 860 573-4908\nSteve Kovack\, Co-Chair\, 860 521-6563: \nSign-up Page \n 
URL:https://westhartfordgardenclub.org/event/gardening-2/
LOCATION:Butler-McCook Garden\, 396 Main Street\, Hartford\, CT\, United States
ORGANIZER;CN="Linda Aldrich":MAILTO:ljaldrich@hotmail.com
END:VEVENT
BEGIN:VEVENT
DTSTART;TZID=America/New_York:20260406T090000
DTEND;TZID=America/New_York:20260406T110000
DTSTAMP:20260425T083814
CREATED:20250702T215329Z
LAST-MODIFIED:20250702T215329Z
UID:15256-1775466000-1775473200@westhartfordgardenclub.org
SUMMARY:Board Meeting
DESCRIPTION:
URL:https://westhartfordgardenclub.org/event/board-meeting-6/
LOCATION:Lorraine Lodigiani\, 92 Hunter Drive\, West Hartford\, CT\, United States
ORGANIZER;CN="Lorraine Lodigiani":MAILTO:lorrainelodigiani@gmail.com
END:VEVENT
BEGIN:VEVENT
DTSTART;TZID=America/New_York:20260331T123000
DTEND;TZID=America/New_York:20260331T150000
DTSTAMP:20260425T083814
CREATED:20260303T210333Z
LAST-MODIFIED:20260303T210333Z
UID:16764-1774960200-1774969200@westhartfordgardenclub.org
SUMMARY:Civic Projects - Seed Sorting
DESCRIPTION:Seed sorting for the 2026 Seed Library Opening is a fun weekly event from November through April. Sessions are held most Tuesdays from 12:30 pm – 3 pm in the Story Time Room at the Noah Webster Memorial Library Children’s Department\, beginning on November 4\, 2025. Parking is available at the Isham Lot at Blue Back Square – please do not pay at the kiosk in the garage or on the phone app. Rather\, just provide your license plate number to the Children’s Librarian and let the librarian know that you are with the seed library group for 3 hours. \nLooking forward to meeting again for a new season! Please call us with any questions or concerns.
URL:https://westhartfordgardenclub.org/event/civic-projects-seed-sorting-10/
LOCATION:Noah Webster Library\, 20 South Main Street\, West Hartford\, CT\, United States
ORGANIZER;CN="Janice Schnabel":MAILTO:janice.schnabel@gmail.com
END:VEVENT
BEGIN:VEVENT
DTSTART;TZID=America/New_York:20260324T123000
DTEND;TZID=America/New_York:20260324T150000
DTSTAMP:20260425T083814
CREATED:20260303T210121Z
LAST-MODIFIED:20260303T210121Z
UID:16762-1774355400-1774364400@westhartfordgardenclub.org
SUMMARY:Civic Project - Seed Sorting
DESCRIPTION:Seed sorting for the 2026 Seed Library Opening is a fun weekly event from November through April. Sessions are held most Tuesdays from 12:30 pm – 3 pm in the Story Time Room at the Noah Webster Memorial Library Children’s Department\, beginning on November 4\, 2025. Parking is available at the Isham Lot at Blue Back Square – please do not pay at the kiosk in the garage or on the phone app. Rather\, just provide your license plate number to the Children’s Librarian and let the librarian know that you are with the seed library group for 3 hours. \nLooking forward to meeting again for a new season! Please call us with any questions or concerns.
URL:https://westhartfordgardenclub.org/event/civic-project-seed-sorting/
LOCATION:Noah Webster Library\, 20 South Main Street\, West Hartford\, CT\, United States
ORGANIZER;CN="Janice Schnabel":MAILTO:janice.schnabel@gmail.com
END:VEVENT
BEGIN:VEVENT
DTSTART;TZID=America/New_York:20260321T103000
DTEND;TZID=America/New_York:20260321T120000
DTSTAMP:20260425T083814
CREATED:20250706T180322Z
LAST-MODIFIED:20250706T180322Z
UID:15284-1774089000-1774094400@westhartfordgardenclub.org
SUMMARY:Civic Projects - Home Composting 101 Class
DESCRIPTION:
URL:https://westhartfordgardenclub.org/event/civic-projects-home-composting-101-class/
LOCATION:Noah Webster Library\, 20 South Main Street\, West Hartford\, CT\, United States
ORGANIZER;CN="Beth Ann Loveland Sennett":MAILTO:blovelandsennett56@gmail.com
END:VEVENT
BEGIN:VEVENT
DTSTART;TZID=America/New_York:20260319T140000
DTEND;TZID=America/New_York:20260319T153000
DTSTAMP:20260425T083814
CREATED:20250817T214448Z
LAST-MODIFIED:20250817T214625Z
UID:15451-1773928800-1773934200@westhartfordgardenclub.org
SUMMARY:Floral Design Workshop - Principles of Vertical Floral Design
DESCRIPTION:Newer  members (last two years) are especially encouraged to attend.  Material fee will be collected.
URL:https://westhartfordgardenclub.org/event/floral-design-workshop-principles-of-vertical-floral-design/
LOCATION:Noah Webster House\, 227 South Main Street\, West Hartford\, CT\, United States
ORGANIZER;CN="Eva Jakuba":MAILTO:eva.jakuba@gmail.com
END:VEVENT
BEGIN:VEVENT
DTSTART;TZID=America/New_York:20260317T123000
DTEND;TZID=America/New_York:20260317T150000
DTSTAMP:20260425T083814
CREATED:20260303T205924Z
LAST-MODIFIED:20260303T205924Z
UID:16760-1773750600-1773759600@westhartfordgardenclub.org
SUMMARY:Civic Projects - Seed Sorting
DESCRIPTION:Seed sorting for the 2026 Seed Library Opening is a fun weekly event from November through April. Sessions are held most Tuesdays from 12:30 pm – 3 pm in the Story Time Room at the Noah Webster Memorial Library Children’s Department\, beginning on November 4\, 2025. Parking is available at the Isham Lot at Blue Back Square – please do not pay at the kiosk in the garage or on the phone app. Rather\, just provide your license plate number to the Children’s Librarian and let the librarian know that you are with the seed library group for 3 hours. \nLooking forward to meeting again for a new season! Please call us with any questions or concerns.
URL:https://westhartfordgardenclub.org/event/civic-projects-seed-sorting-9/
LOCATION:Noah Webster Library\, 20 South Main Street\, West Hartford\, CT\, United States
ORGANIZER;CN="Janice Schnabel":MAILTO:janice.schnabel@gmail.com
END:VEVENT
BEGIN:VEVENT
DTSTART;TZID=America/New_York:20260314T110000
DTEND;TZID=America/New_York:20260314T123000
DTSTAMP:20260425T083814
CREATED:20250706T180015Z
LAST-MODIFIED:20260302T234658Z
UID:15282-1773486000-1773491400@westhartfordgardenclub.org
SUMMARY:Civic Projects - 4th Annual Seed Library Launch
DESCRIPTION:Description\n\nJoin us for the 4th Annual Seed Library Kickoff! This event marks the start of the season for our popular Seed Library – a collaboration between the WHPL and the West Hartford Garden Club to expand community access to seeds and support gardeners of all skill levels. Join us to select free seeds for your garden\, consult with Master Gardeners\, and enter a raffle for a chance to win gardening supplies. Quantities are limited to three (3) packets per person. \nCan’t make it to the event? No problem! The Seed Library will be accessible after the kickoff during library hours on the main floor at Noah Webster. Smaller selections of seeds will also be available at Bishops Corner and Faxon. \nNo registration required.
URL:https://westhartfordgardenclub.org/event/civic-projects-4th-annual-seed-library-launch/
LOCATION:Noah Webster Library\, 20 South Main Street\, West Hartford\, CT\, United States
ORGANIZER;CN="Beth Ann Loveland Sennett":MAILTO:blovelandsennett56@gmail.com
END:VEVENT
BEGIN:VEVENT
DTSTART;TZID=America/New_York:20260311T183000
DTEND;TZID=America/New_York:20260311T200000
DTSTAMP:20260425T083814
CREATED:20250907T201959Z
LAST-MODIFIED:20260302T234212Z
UID:15599-1773253800-1773259200@westhartfordgardenclub.org
SUMMARY:Lecture by Dr. Douglas Tallamy
DESCRIPTION:Upcoming Lecture: Dr. Douglas Tallamy\n· Date: Wednesday\, March 11\, 2026\, from 6:30 pm to 8:00 pm.  Doors open at 5:30 pm.\n· Venue: West Hartford Conference Center at the Town Hall (rent-free\, courtesy of the Town).\n· Format: Free public lecture (registration required) + livestream option. \nREGISTRATION opens Sunday\, January 11\, 2026.
URL:https://westhartfordgardenclub.org/event/lecture-by-dr-douglas-tallamy/
LOCATION:West Hartford Conference Center at West Hartford Town Hall\, 50 South Main Street\, West Hartford\, CT\, United States
ORGANIZER;CN="Beth Ann Loveland Sennett":MAILTO:blovelandsennett56@gmail.com
END:VEVENT
BEGIN:VEVENT
DTSTART;TZID=America/New_York:20260310T123000
DTEND;TZID=America/New_York:20260310T150000
DTSTAMP:20260425T083814
CREATED:20260303T205607Z
LAST-MODIFIED:20260303T205607Z
UID:16758-1773145800-1773154800@westhartfordgardenclub.org
SUMMARY:Civic Projects - Seed Sorting
DESCRIPTION:Seed sorting for the 2026 Seed Library Opening is a fun weekly event from November through April. Sessions are held most Tuesdays from 12:30 pm – 3 pm in the Story Time Room at the Noah Webster Memorial Library Children’s Department\, beginning on November 4\, 2025. Parking is available at the Isham Lot at Blue Back Square – please do not pay at the kiosk in the garage or on the phone app. Rather\, just provide your license plate number to the Children’s Librarian and let the librarian know that you are with the seed library group for 3 hours. \nLooking forward to meeting again for a new season! Please call us with any questions or concerns.
URL:https://westhartfordgardenclub.org/event/civic-projects-seed-sorting-8/
LOCATION:Noah Webster Library\, 20 South Main Street\, West Hartford\, CT\, United States
ORGANIZER;CN="Janice Schnabel":MAILTO:janice.schnabel@gmail.com
END:VEVENT
BEGIN:VEVENT
DTSTART;TZID=America/New_York:20260310T103000
DTEND;TZID=America/New_York:20260310T123000
DTSTAMP:20260425T083814
CREATED:20260302T221530Z
LAST-MODIFIED:20260302T221653Z
UID:16695-1773138600-1773145800@westhartfordgardenclub.org
SUMMARY:Budget Meeting
DESCRIPTION:We will review the budget and what we spent so far.
URL:https://westhartfordgardenclub.org/event/budget-meeting/
LOCATION:Susan Lindberg\, 25 Craigmoor Road\, West Hartford\, CT\, 06107\, United States
ORGANIZER;CN="Susan Lindberg":MAILTO:rslindberg273@gmail.com
END:VEVENT
BEGIN:VEVENT
DTSTART;TZID=America/New_York:20260308T113000
DTEND;TZID=America/New_York:20260308T140000
DTSTAMP:20260425T083814
CREATED:20260308T210539Z
LAST-MODIFIED:20260308T210539Z
UID:16873-1772969400-1772978400@westhartfordgardenclub.org
SUMMARY:General Meeting
DESCRIPTION:More information will be coming.
URL:https://westhartfordgardenclub.org/event/general-meeting-12/
LOCATION:St. John’s Episcopal Church\, 679 Farmington Avenue\, West Hartford\, CT
END:VEVENT
BEGIN:VEVENT
DTSTART;TZID=America/New_York:20260307T080000
DTEND;TZID=America/New_York:20260307T170000
DTSTAMP:20260425T083814
CREATED:20260307T201351Z
LAST-MODIFIED:20260307T201351Z
UID:16843-1772870400-1772902800@westhartfordgardenclub.org
SUMMARY:Fine Art & Flowers
DESCRIPTION:
URL:https://westhartfordgardenclub.org/event/fine-art-flowers-3/
LOCATION:CT
END:VEVENT
BEGIN:VEVENT
DTSTART;TZID=America/New_York:20260305T113000
DTEND;TZID=America/New_York:20260305T140000
DTSTAMP:20260425T083814
CREATED:20250706T195923Z
LAST-MODIFIED:20260225T011233Z
UID:15305-1772710200-1772719200@westhartfordgardenclub.org
SUMMARY:General Meeting
DESCRIPTION:We are proud to present a pop-up RRR Sale with 100’s of quality Gardening Books donated by two of our Members.  All books are in amazing condition and will sell for $5 each\, plus a free book from another table!  These books sell up to $50\, with most in the $20 to $30 range. \nFrom 11:30 am to 12:30 pm\nSubjects include –\nShade Gardens\, Perennials\, Bulbs\, Houseplants\, Cutting Gardens\, Historic Gardens\, Patio Gardens\, Ornamental Grasses.\nSupport our Club and share these beautiful gardening books with friends and family!\n \n\nTime: 11:30 am – 2:00 pm (Speaker may extend until 3:00 pm) \n\nFearless Pruning\, presented by Lee Reich\, PhD\, author of several books on this and other garden-related topics. Lee will take the mystery out of pruning\, so that lilacs\, roses\, all trees\, and shrubs can be pruned to look their best and be in vibrant health. After going over the many benefits of pruning\, he’ll show us the tools for the job and then\, most importantly\, discuss how plants respond to various types of pruning cuts. After that\, we enter the “real world” with the how\, why\, and when of pruning multiple groups of plants. Lee will bring his books to sell.
URL:https://westhartfordgardenclub.org/event/general-meeting-4/
LOCATION:Saint John’s Episcopal Church\, 679 Farmington Avenue\, West Hartford\, CT\, United States
END:VEVENT
BEGIN:VEVENT
DTSTART;TZID=America/New_York:20260305T104500
DTEND;TZID=America/New_York:20260305T113000
DTSTAMP:20260425T083814
CREATED:20260131T230955Z
LAST-MODIFIED:20260131T231032Z
UID:16464-1772707500-1772710200@westhartfordgardenclub.org
SUMMARY:Newcomers Meeting
DESCRIPTION:
URL:https://westhartfordgardenclub.org/event/newcomers-meeting/
LOCATION:Saint John’s Episcopal Church\, 679 Farmington Avenue\, West Hartford\, CT\, United States
ORGANIZER;CN="Susan Lindberg":MAILTO:rslindberg273@gmail.com
END:VEVENT
BEGIN:VEVENT
DTSTART;TZID=America/New_York:20260302T090000
DTEND;TZID=America/New_York:20260302T110000
DTSTAMP:20260425T083814
CREATED:20250707T175620Z
LAST-MODIFIED:20250707T175620Z
UID:15317-1772442000-1772449200@westhartfordgardenclub.org
SUMMARY:Board Meeting
DESCRIPTION:
URL:https://westhartfordgardenclub.org/event/board-meeting-9/
LOCATION:Roxanne Witmer-DeWitt\, 11 Foot Path Lane\, West Hartford\, CT\, United States
END:VEVENT
END:VCALENDAR