BEGIN:VCALENDAR
VERSION:2.0
PRODID:-//The West Hartford Garden Club - ECPv6.15.20//NONSGML v1.0//EN
CALSCALE:GREGORIAN
METHOD:PUBLISH
X-ORIGINAL-URL:https://westhartfordgardenclub.org
X-WR-CALDESC:Events for The West Hartford Garden Club
REFRESH-INTERVAL;VALUE=DURATION:PT1H
X-Robots-Tag:noindex
X-PUBLISHED-TTL:PT1H
BEGIN:VTIMEZONE
TZID:America/New_York
BEGIN:DAYLIGHT
TZOFFSETFROM:-0500
TZOFFSETTO:-0400
TZNAME:EDT
DTSTART:20260308T070000
END:DAYLIGHT
BEGIN:STANDARD
TZOFFSETFROM:-0400
TZOFFSETTO:-0500
TZNAME:EST
DTSTART:20261101T060000
END:STANDARD
BEGIN:DAYLIGHT
TZOFFSETFROM:-0500
TZOFFSETTO:-0400
TZNAME:EDT
DTSTART:20270314T070000
END:DAYLIGHT
BEGIN:STANDARD
TZOFFSETFROM:-0400
TZOFFSETTO:-0500
TZNAME:EST
DTSTART:20271107T060000
END:STANDARD
BEGIN:DAYLIGHT
TZOFFSETFROM:-0500
TZOFFSETTO:-0400
TZNAME:EDT
DTSTART:20280312T070000
END:DAYLIGHT
BEGIN:STANDARD
TZOFFSETFROM:-0400
TZOFFSETTO:-0500
TZNAME:EST
DTSTART:20281105T060000
END:STANDARD
END:VTIMEZONE
BEGIN:VEVENT
DTSTART;TZID=America/New_York:20270301T090000
DTEND;TZID=America/New_York:20270301T110000
DTSTAMP:20260425T083512
CREATED:20260308T205016Z
LAST-MODIFIED:20260308T205016Z
UID:16857-1803891600-1803898800@westhartfordgardenclub.org
SUMMARY:Board Meeting
DESCRIPTION:Location will be available soon.
URL:https://westhartfordgardenclub.org/event/board-meeting-15/
LOCATION:CT
END:VEVENT
BEGIN:VEVENT
DTSTART;TZID=America/New_York:20270304T113000
DTEND;TZID=America/New_York:20270304T140000
DTSTAMP:20260425T083512
CREATED:20260308T220432Z
LAST-MODIFIED:20260308T220432Z
UID:16881-1804159800-1804168800@westhartfordgardenclub.org
SUMMARY:General Meeting
DESCRIPTION:More information will be coming.
URL:https://westhartfordgardenclub.org/event/general-meeting-15/
LOCATION:St. John’s Episcopal Church\, 679 Farmington Avenue\, West Hartford\, CT
END:VEVENT
BEGIN:VEVENT
DTSTART;TZID=America/New_York:20270405T090000
DTEND;TZID=America/New_York:20270405T110000
DTSTAMP:20260425T083512
CREATED:20260308T205118Z
LAST-MODIFIED:20260308T205118Z
UID:16859-1806915600-1806922800@westhartfordgardenclub.org
SUMMARY:Board Meeting
DESCRIPTION:Location will be available soon.
URL:https://westhartfordgardenclub.org/event/board-meeting-16/
LOCATION:CT
END:VEVENT
BEGIN:VEVENT
DTSTART;TZID=America/New_York:20270408T113000
DTEND;TZID=America/New_York:20270408T140000
DTSTAMP:20260425T083512
CREATED:20260308T210721Z
LAST-MODIFIED:20260308T210721Z
UID:16875-1807183800-1807192800@westhartfordgardenclub.org
SUMMARY:General Meeting
DESCRIPTION:More information will be coming.
URL:https://westhartfordgardenclub.org/event/general-meeting-13/
LOCATION:St. John’s Episcopal Church\, 679 Farmington Avenue\, West Hartford\, CT
END:VEVENT
BEGIN:VEVENT
DTSTART;TZID=America/New_York:20270503T090000
DTEND;TZID=America/New_York:20270503T110000
DTSTAMP:20260425T083512
CREATED:20260308T205341Z
LAST-MODIFIED:20260308T205341Z
UID:16861-1809334800-1809342000@westhartfordgardenclub.org
SUMMARY:Board Meeting
DESCRIPTION:Location will be available soon.
URL:https://westhartfordgardenclub.org/event/board-meeting-17/
LOCATION:CT
END:VEVENT
BEGIN:VEVENT
DTSTART;TZID=America/New_York:20270506T110000
DTEND;TZID=America/New_York:20270506T140000
DTSTAMP:20260425T083512
CREATED:20260308T210837Z
LAST-MODIFIED:20260308T210837Z
UID:16877-1809601200-1809612000@westhartfordgardenclub.org
SUMMARY:General Meeting
DESCRIPTION:More information will be coming.
URL:https://westhartfordgardenclub.org/event/general-meeting-14/
LOCATION:St. John’s Episcopal Church\, 679 Farmington Avenue\, West Hartford\, CT
END:VEVENT
BEGIN:VEVENT
DTSTART;TZID=America/New_York:20270607T090000
DTEND;TZID=America/New_York:20270607T110000
DTSTAMP:20260425T083512
CREATED:20260308T205450Z
LAST-MODIFIED:20260308T205450Z
UID:16863-1812358800-1812366000@westhartfordgardenclub.org
SUMMARY:Board Meeting
DESCRIPTION:Location will be available soon.
URL:https://westhartfordgardenclub.org/event/board-meeting-18/
LOCATION:CT
END:VEVENT
BEGIN:VEVENT
DTSTART;TZID=America/New_York:20270610T113000
DTEND;TZID=America/New_York:20270610T140000
DTSTAMP:20260425T083512
CREATED:20260308T210953Z
LAST-MODIFIED:20260308T210953Z
UID:16879-1812627000-1812636000@westhartfordgardenclub.org
SUMMARY:Annual & General Meeting & Luncheon
DESCRIPTION:More information will be coming.
URL:https://westhartfordgardenclub.org/event/annual-general-meeting-luncheon/
LOCATION:CT
END:VEVENT
END:VCALENDAR